BEGIN:VCALENDAR
VERSION:2.0
PRODID:-//Mateřská škola Mezivrší - ECPv6.15.12.2//NONSGML v1.0//EN
CALSCALE:GREGORIAN
METHOD:PUBLISH
X-ORIGINAL-URL:https://www.msmezivrsi.cz
X-WR-CALDESC:Akce na Mateřská škola Mezivrší
REFRESH-INTERVAL;VALUE=DURATION:PT1H
X-Robots-Tag:noindex
X-PUBLISHED-TTL:PT1H
BEGIN:VTIMEZONE
TZID:Europe/Prague
BEGIN:DAYLIGHT
TZOFFSETFROM:+0100
TZOFFSETTO:+0200
TZNAME:CEST
DTSTART:20220327T010000
END:DAYLIGHT
BEGIN:STANDARD
TZOFFSETFROM:+0200
TZOFFSETTO:+0100
TZNAME:CET
DTSTART:20221030T010000
END:STANDARD
BEGIN:DAYLIGHT
TZOFFSETFROM:+0100
TZOFFSETTO:+0200
TZNAME:CEST
DTSTART:20230326T010000
END:DAYLIGHT
BEGIN:STANDARD
TZOFFSETFROM:+0200
TZOFFSETTO:+0100
TZNAME:CET
DTSTART:20231029T010000
END:STANDARD
BEGIN:DAYLIGHT
TZOFFSETFROM:+0100
TZOFFSETTO:+0200
TZNAME:CEST
DTSTART:20240331T010000
END:DAYLIGHT
BEGIN:STANDARD
TZOFFSETFROM:+0200
TZOFFSETTO:+0100
TZNAME:CET
DTSTART:20241027T010000
END:STANDARD
END:VTIMEZONE
BEGIN:VEVENT
DTSTART;TZID=Europe/Prague:20230501T070000
DTEND;TZID=Europe/Prague:20230501T173000
DTSTAMP:20260423T030000
CREATED:20230414T081143Z
LAST-MODIFIED:20230414T081143Z
UID:2084-1682924400-1682962200@www.msmezivrsi.cz
SUMMARY:Státní svátek
DESCRIPTION:
URL:https://www.msmezivrsi.cz/kalendar/statni-svatek-2/
END:VEVENT
BEGIN:VEVENT
DTSTART;TZID=Europe/Prague:20230502T150000
DTEND;TZID=Europe/Prague:20230502T154500
DTSTAMP:20260423T030000
CREATED:20230414T081249Z
LAST-MODIFIED:20230414T081249Z
UID:2088-1683039600-1683042300@www.msmezivrsi.cz
SUMMARY:Zpívánky
DESCRIPTION:
URL:https://www.msmezivrsi.cz/kalendar/zpivanky-11/
END:VEVENT
BEGIN:VEVENT
DTSTART;TZID=Europe/Prague:20230503T150000
DTEND;TZID=Europe/Prague:20230503T154500
DTSTAMP:20260423T030000
CREATED:20230414T081319Z
LAST-MODIFIED:20230414T081319Z
UID:2090-1683126000-1683128700@www.msmezivrsi.cz
SUMMARY:Dětská jóga
DESCRIPTION:
URL:https://www.msmezivrsi.cz/kalendar/detska-joga-34/
END:VEVENT
BEGIN:VEVENT
DTSTART;TZID=Europe/Prague:20230504T100000
DTEND;TZID=Europe/Prague:20230504T110000
DTSTAMP:20260423T030000
CREATED:20230414T081354Z
LAST-MODIFIED:20230414T081354Z
UID:2092-1683194400-1683198000@www.msmezivrsi.cz
SUMMARY:Sokol Braník - předškoláci
DESCRIPTION:
URL:https://www.msmezivrsi.cz/kalendar/sokol-branik-predskolaci-11/
END:VEVENT
BEGIN:VEVENT
DTSTART;TZID=Europe/Prague:20230508T070000
DTEND;TZID=Europe/Prague:20230508T173000
DTSTAMP:20260423T030000
CREATED:20230414T081159Z
LAST-MODIFIED:20230414T081159Z
UID:2086-1683529200-1683567000@www.msmezivrsi.cz
SUMMARY:Státní svátek
DESCRIPTION:
URL:https://www.msmezivrsi.cz/kalendar/statni-svatek-3/
END:VEVENT
BEGIN:VEVENT
DTSTART;TZID=Europe/Prague:20230509T150000
DTEND;TZID=Europe/Prague:20230509T154500
DTSTAMP:20260423T030000
CREATED:20230419T052928Z
LAST-MODIFIED:20230419T052928Z
UID:2133-1683644400-1683647100@www.msmezivrsi.cz
SUMMARY:Zpívánky
DESCRIPTION:
URL:https://www.msmezivrsi.cz/kalendar/zpivanky-12/
END:VEVENT
BEGIN:VEVENT
DTSTART;TZID=Europe/Prague:20230510T083000
DTEND;TZID=Europe/Prague:20230510T090000
DTSTAMP:20260423T030000
CREATED:20230414T081703Z
LAST-MODIFIED:20230414T081703Z
UID:2104-1683707400-1683709200@www.msmezivrsi.cz
SUMMARY:Fotograf v MŠ
DESCRIPTION:Focení tříd.
URL:https://www.msmezivrsi.cz/kalendar/fotograf-v-ms-4/
END:VEVENT
BEGIN:VEVENT
DTSTART;TZID=Europe/Prague:20230510T150000
DTEND;TZID=Europe/Prague:20230510T154500
DTSTAMP:20260423T030000
CREATED:20230419T054610Z
LAST-MODIFIED:20230419T054610Z
UID:2135-1683730800-1683733500@www.msmezivrsi.cz
SUMMARY:Dětská jóga
DESCRIPTION:
URL:https://www.msmezivrsi.cz/kalendar/detska-joga-35/
END:VEVENT
BEGIN:VEVENT
DTSTART;TZID=Europe/Prague:20230511T100000
DTEND;TZID=Europe/Prague:20230511T110000
DTSTAMP:20260423T030000
CREATED:20230414T081419Z
LAST-MODIFIED:20230414T081419Z
UID:2094-1683799200-1683802800@www.msmezivrsi.cz
SUMMARY:Sokol Braník - předškoláci
DESCRIPTION:
URL:https://www.msmezivrsi.cz/kalendar/sokol-branik-predskolaci-12/
END:VEVENT
BEGIN:VEVENT
DTSTART;TZID=Europe/Prague:20230511T130000
DTEND;TZID=Europe/Prague:20230511T160000
DTSTAMP:20260423T030000
CREATED:20230419T052820Z
LAST-MODIFIED:20230419T052820Z
UID:2129-1683810000-1683820800@www.msmezivrsi.cz
SUMMARY:Keramika
DESCRIPTION:
URL:https://www.msmezivrsi.cz/kalendar/keramika-32/
END:VEVENT
BEGIN:VEVENT
DTSTART;TZID=Europe/Prague:20230512T083000
DTEND;TZID=Europe/Prague:20230512T093000
DTSTAMP:20260423T030000
CREATED:20230414T081549Z
LAST-MODIFIED:20230414T081549Z
UID:2100-1683880200-1683883800@www.msmezivrsi.cz
SUMMARY:Malá technická univerzita - Malý energetik - předškoláci
DESCRIPTION:
URL:https://www.msmezivrsi.cz/kalendar/mala-technicka-univerzita-maly-energetik-predskolaci/
END:VEVENT
BEGIN:VEVENT
DTSTART;TZID=Europe/Prague:20230518T100000
DTEND;TZID=Europe/Prague:20230518T110000
DTSTAMP:20260423T030000
CREATED:20230414T081439Z
LAST-MODIFIED:20230414T081439Z
UID:2096-1684404000-1684407600@www.msmezivrsi.cz
SUMMARY:Sokol Braník - předškoláci
DESCRIPTION:
URL:https://www.msmezivrsi.cz/kalendar/sokol-branik-predskolaci-13/
END:VEVENT
BEGIN:VEVENT
DTSTART;TZID=Europe/Prague:20230518T130000
DTEND;TZID=Europe/Prague:20230518T160000
DTSTAMP:20260423T030000
CREATED:20230419T052852Z
LAST-MODIFIED:20230419T052852Z
UID:2131-1684414800-1684425600@www.msmezivrsi.cz
SUMMARY:Keramika
DESCRIPTION:
URL:https://www.msmezivrsi.cz/kalendar/keramika-33/
END:VEVENT
BEGIN:VEVENT
DTSTART;TZID=Europe/Prague:20230525T100000
DTEND;TZID=Europe/Prague:20230525T110000
DTSTAMP:20260423T030000
CREATED:20230414T081500Z
LAST-MODIFIED:20230414T081500Z
UID:2098-1685008800-1685012400@www.msmezivrsi.cz
SUMMARY:Sokol Braník - předškoláci
DESCRIPTION:
URL:https://www.msmezivrsi.cz/kalendar/sokol-branik-predskolaci-14/
END:VEVENT
END:VCALENDAR