BEGIN:VCALENDAR
VERSION:2.0
PRODID:-//Mateřská škola Mezivrší - ECPv6.15.12.2//NONSGML v1.0//EN
CALSCALE:GREGORIAN
METHOD:PUBLISH
X-ORIGINAL-URL:https://www.msmezivrsi.cz
X-WR-CALDESC:Akce na Mateřská škola Mezivrší
REFRESH-INTERVAL;VALUE=DURATION:PT1H
X-Robots-Tag:noindex
X-PUBLISHED-TTL:PT1H
BEGIN:VTIMEZONE
TZID:Europe/Prague
BEGIN:DAYLIGHT
TZOFFSETFROM:+0100
TZOFFSETTO:+0200
TZNAME:CEST
DTSTART:20220327T010000
END:DAYLIGHT
BEGIN:STANDARD
TZOFFSETFROM:+0200
TZOFFSETTO:+0100
TZNAME:CET
DTSTART:20221030T010000
END:STANDARD
BEGIN:DAYLIGHT
TZOFFSETFROM:+0100
TZOFFSETTO:+0200
TZNAME:CEST
DTSTART:20230326T010000
END:DAYLIGHT
BEGIN:STANDARD
TZOFFSETFROM:+0200
TZOFFSETTO:+0100
TZNAME:CET
DTSTART:20231029T010000
END:STANDARD
BEGIN:DAYLIGHT
TZOFFSETFROM:+0100
TZOFFSETTO:+0200
TZNAME:CEST
DTSTART:20240331T010000
END:DAYLIGHT
BEGIN:STANDARD
TZOFFSETFROM:+0200
TZOFFSETTO:+0100
TZNAME:CET
DTSTART:20241027T010000
END:STANDARD
END:VTIMEZONE
BEGIN:VEVENT
DTSTART;TZID=Europe/Prague:20230615T150000
DTEND;TZID=Europe/Prague:20230615T183000
DTSTAMP:20260423T011006
CREATED:20230414T081747Z
LAST-MODIFIED:20230414T081747Z
UID:2106-1686841200-1686853800@www.msmezivrsi.cz
SUMMARY:Loučení  s předškoláky
DESCRIPTION:
URL:https://www.msmezivrsi.cz/kalendar/louceni-s-predskolaky-2/
END:VEVENT
BEGIN:VEVENT
DTSTART;TZID=Europe/Prague:20230626T080000
DTEND;TZID=Europe/Prague:20230626T170000
DTSTAMP:20260423T011006
CREATED:20230414T081812Z
LAST-MODIFIED:20230414T081812Z
UID:2108-1687766400-1687798800@www.msmezivrsi.cz
SUMMARY:Celodenní výlet
DESCRIPTION:
URL:https://www.msmezivrsi.cz/kalendar/celodenni-vylet/
END:VEVENT
END:VCALENDAR