BEGIN:VCALENDAR
VERSION:2.0
PRODID:-//Mateřská škola Mezivrší - ECPv6.15.12.2//NONSGML v1.0//EN
CALSCALE:GREGORIAN
METHOD:PUBLISH
X-ORIGINAL-URL:https://www.msmezivrsi.cz
X-WR-CALDESC:Akce na Mateřská škola Mezivrší
REFRESH-INTERVAL;VALUE=DURATION:PT1H
X-Robots-Tag:noindex
X-PUBLISHED-TTL:PT1H
BEGIN:VTIMEZONE
TZID:Europe/Prague
BEGIN:DAYLIGHT
TZOFFSETFROM:+0100
TZOFFSETTO:+0200
TZNAME:CEST
DTSTART:20220327T010000
END:DAYLIGHT
BEGIN:STANDARD
TZOFFSETFROM:+0200
TZOFFSETTO:+0100
TZNAME:CET
DTSTART:20221030T010000
END:STANDARD
BEGIN:DAYLIGHT
TZOFFSETFROM:+0100
TZOFFSETTO:+0200
TZNAME:CEST
DTSTART:20230326T010000
END:DAYLIGHT
BEGIN:STANDARD
TZOFFSETFROM:+0200
TZOFFSETTO:+0100
TZNAME:CET
DTSTART:20231029T010000
END:STANDARD
BEGIN:DAYLIGHT
TZOFFSETFROM:+0100
TZOFFSETTO:+0200
TZNAME:CEST
DTSTART:20240331T010000
END:DAYLIGHT
BEGIN:STANDARD
TZOFFSETFROM:+0200
TZOFFSETTO:+0100
TZNAME:CET
DTSTART:20241027T010000
END:STANDARD
BEGIN:DAYLIGHT
TZOFFSETFROM:+0100
TZOFFSETTO:+0200
TZNAME:CEST
DTSTART:20250330T010000
END:DAYLIGHT
BEGIN:STANDARD
TZOFFSETFROM:+0200
TZOFFSETTO:+0100
TZNAME:CET
DTSTART:20251026T010000
END:STANDARD
END:VTIMEZONE
BEGIN:VEVENT
DTSTART;TZID=Europe/Prague:20231205T070000
DTEND;TZID=Europe/Prague:20231205T170000
DTSTAMP:20260422T143455
CREATED:20231110T093425Z
LAST-MODIFIED:20231110T093425Z
UID:2324-1701759600-1701795600@www.msmezivrsi.cz
SUMMARY:Čertovský den - dopoledne
DESCRIPTION:Vstup čertům povoleno!!!
URL:https://www.msmezivrsi.cz/kalendar/certovsky-den-dopoledne/
END:VEVENT
BEGIN:VEVENT
DTSTART;TZID=Europe/Prague:20231205T080000
DTEND;TZID=Europe/Prague:20231205T100000
DTSTAMP:20260422T143455
CREATED:20230829T074059Z
LAST-MODIFIED:20230829T074059Z
UID:2247-1701763200-1701770400@www.msmezivrsi.cz
SUMMARY:Mikuláš v MŠ
DESCRIPTION:
URL:https://www.msmezivrsi.cz/kalendar/mikulas-v-ms-2/
END:VEVENT
BEGIN:VEVENT
DTSTART;TZID=Europe/Prague:20231207T160000
DTEND;TZID=Europe/Prague:20231207T170000
DTSTAMP:20260422T143455
CREATED:20230829T073814Z
LAST-MODIFIED:20231208T084202Z
UID:2240-1701964800-1701968400@www.msmezivrsi.cz
SUMMARY:Rozsvícení vánočního stromu - JARMARK
DESCRIPTION:
URL:https://www.msmezivrsi.cz/kalendar/rozsviceni-vanocniho-stromu-jarmark/
END:VEVENT
BEGIN:VEVENT
DTSTART;TZID=Europe/Prague:20231212T080000
DTEND;TZID=Europe/Prague:20231212T113000
DTSTAMP:20260422T143455
CREATED:20230829T073150Z
LAST-MODIFIED:20230829T073150Z
UID:2220-1702368000-1702380600@www.msmezivrsi.cz
SUMMARY:Plavecký kurz - 12.lekce
DESCRIPTION:
URL:https://www.msmezivrsi.cz/kalendar/plavecky-kurz-12-lekce/
END:VEVENT
BEGIN:VEVENT
DTSTART;TZID=Europe/Prague:20231214T073000
DTEND;TZID=Europe/Prague:20231214T120000
DTSTAMP:20260422T143455
CREATED:20230829T074130Z
LAST-MODIFIED:20230829T074130Z
UID:2249-1702539000-1702555200@www.msmezivrsi.cz
SUMMARY:Vánoční dílničky
DESCRIPTION:
URL:https://www.msmezivrsi.cz/kalendar/vanocni-dilnicky/
END:VEVENT
BEGIN:VEVENT
DTSTART;TZID=Europe/Prague:20231215T083000
DTEND;TZID=Europe/Prague:20231215T093000
DTSTAMP:20260422T143455
CREATED:20230829T074222Z
LAST-MODIFIED:20230829T074222Z
UID:2251-1702629000-1702632600@www.msmezivrsi.cz
SUMMARY:Malá technická univerzita
DESCRIPTION:Malý projektant – program MTU
URL:https://www.msmezivrsi.cz/kalendar/mala-technicka-univerzita/
END:VEVENT
BEGIN:VEVENT
DTSTART;TZID=Europe/Prague:20231218T100000
DTEND;TZID=Europe/Prague:20231218T110000
DTSTAMP:20260422T143455
CREATED:20231208T084234Z
LAST-MODIFIED:20231208T084234Z
UID:2354-1702893600-1702897200@www.msmezivrsi.cz
SUMMARY:Bruslení s předškoláčky
DESCRIPTION:
URL:https://www.msmezivrsi.cz/kalendar/brusleni-s-predskolacky/
END:VEVENT
BEGIN:VEVENT
DTSTART;TZID=Europe/Prague:20231219T080000
DTEND;TZID=Europe/Prague:20231219T113000
DTSTAMP:20260422T143455
CREATED:20230829T073222Z
LAST-MODIFIED:20230829T073222Z
UID:2222-1702972800-1702985400@www.msmezivrsi.cz
SUMMARY:Plavecký kurz - 13.lekce
DESCRIPTION:
URL:https://www.msmezivrsi.cz/kalendar/plavecky-kurz-13-lekce/
END:VEVENT
BEGIN:VEVENT
DTSTART;TZID=Europe/Prague:20231220T100000
DTEND;TZID=Europe/Prague:20231220T110000
DTSTAMP:20260422T143455
CREATED:20231208T084305Z
LAST-MODIFIED:20231208T084305Z
UID:2356-1703066400-1703070000@www.msmezivrsi.cz
SUMMARY:Bruslení s předškoláčky
DESCRIPTION:
URL:https://www.msmezivrsi.cz/kalendar/brusleni-s-predskolacky-2/
END:VEVENT
BEGIN:VEVENT
DTSTART;TZID=Europe/Prague:20231225T070000
DTEND;TZID=Europe/Prague:20240102T173000
DTSTAMP:20260422T143455
CREATED:20230829T074520Z
LAST-MODIFIED:20230829T074520Z
UID:2253-1703487600-1704216600@www.msmezivrsi.cz
SUMMARY:Vánoční prázdniny -školka uzavřena
DESCRIPTION:
URL:https://www.msmezivrsi.cz/kalendar/vanocni-prazdniny-skolka-uzavrena/
END:VEVENT
END:VCALENDAR