BEGIN:VCALENDAR
VERSION:2.0
PRODID:-//Mateřská škola Mezivrší - ECPv6.15.12.2//NONSGML v1.0//EN
CALSCALE:GREGORIAN
METHOD:PUBLISH
X-ORIGINAL-URL:https://www.msmezivrsi.cz
X-WR-CALDESC:Akce na Mateřská škola Mezivrší
REFRESH-INTERVAL;VALUE=DURATION:PT1H
X-Robots-Tag:noindex
X-PUBLISHED-TTL:PT1H
BEGIN:VTIMEZONE
TZID:Europe/Prague
BEGIN:DAYLIGHT
TZOFFSETFROM:+0100
TZOFFSETTO:+0200
TZNAME:CEST
DTSTART:20220327T010000
END:DAYLIGHT
BEGIN:STANDARD
TZOFFSETFROM:+0200
TZOFFSETTO:+0100
TZNAME:CET
DTSTART:20221030T010000
END:STANDARD
BEGIN:DAYLIGHT
TZOFFSETFROM:+0100
TZOFFSETTO:+0200
TZNAME:CEST
DTSTART:20230326T010000
END:DAYLIGHT
BEGIN:STANDARD
TZOFFSETFROM:+0200
TZOFFSETTO:+0100
TZNAME:CET
DTSTART:20231029T010000
END:STANDARD
BEGIN:DAYLIGHT
TZOFFSETFROM:+0100
TZOFFSETTO:+0200
TZNAME:CEST
DTSTART:20240331T010000
END:DAYLIGHT
BEGIN:STANDARD
TZOFFSETFROM:+0200
TZOFFSETTO:+0100
TZNAME:CET
DTSTART:20241027T010000
END:STANDARD
BEGIN:DAYLIGHT
TZOFFSETFROM:+0100
TZOFFSETTO:+0200
TZNAME:CEST
DTSTART:20250330T010000
END:DAYLIGHT
BEGIN:STANDARD
TZOFFSETFROM:+0200
TZOFFSETTO:+0100
TZNAME:CET
DTSTART:20251026T010000
END:STANDARD
END:VTIMEZONE
BEGIN:VEVENT
DTSTART;TZID=Europe/Prague:20231225T070000
DTEND;TZID=Europe/Prague:20240102T173000
DTSTAMP:20260422T125213
CREATED:20230829T074520Z
LAST-MODIFIED:20230829T074520Z
UID:2253-1703487600-1704216600@www.msmezivrsi.cz
SUMMARY:Vánoční prázdniny -školka uzavřena
DESCRIPTION:
URL:https://www.msmezivrsi.cz/kalendar/vanocni-prazdniny-skolka-uzavrena/
END:VEVENT
BEGIN:VEVENT
DTSTART;TZID=Europe/Prague:20240103T091500
DTEND;TZID=Europe/Prague:20240103T100000
DTSTAMP:20260422T125213
CREATED:20231222T082850Z
LAST-MODIFIED:20231222T082850Z
UID:2368-1704273300-1704276000@www.msmezivrsi.cz
SUMMARY:Divedélko v MŠ
DESCRIPTION:O veselém vánočním stromečku.
URL:https://www.msmezivrsi.cz/kalendar/divedelko-v-ms-2/
END:VEVENT
BEGIN:VEVENT
DTSTART;TZID=Europe/Prague:20240105T100000
DTEND;TZID=Europe/Prague:20240105T110000
DTSTAMP:20260422T125213
CREATED:20231222T082927Z
LAST-MODIFIED:20231222T082927Z
UID:2370-1704448800-1704452400@www.msmezivrsi.cz
SUMMARY:Tříkrálový průvod - dopolední akce
DESCRIPTION:
URL:https://www.msmezivrsi.cz/kalendar/trikralovy-pruvod-dopoledni-akce-2/
END:VEVENT
BEGIN:VEVENT
DTSTART;TZID=Europe/Prague:20240109T080000
DTEND;TZID=Europe/Prague:20240109T113000
DTSTAMP:20260422T125213
CREATED:20230829T073313Z
LAST-MODIFIED:20230829T073313Z
UID:2224-1704787200-1704799800@www.msmezivrsi.cz
SUMMARY:Plavecký kurz - 14.lekce
DESCRIPTION:
URL:https://www.msmezivrsi.cz/kalendar/plavecky-kurz-14-lekce/
END:VEVENT
BEGIN:VEVENT
DTSTART;TZID=Europe/Prague:20240116T080000
DTEND;TZID=Europe/Prague:20240116T113000
DTSTAMP:20260422T125213
CREATED:20230829T073338Z
LAST-MODIFIED:20230829T073338Z
UID:2226-1705392000-1705404600@www.msmezivrsi.cz
SUMMARY:Plavecký kurz - 15.lekce
DESCRIPTION:
URL:https://www.msmezivrsi.cz/kalendar/plavecky-kurz-15-lekce/
END:VEVENT
BEGIN:VEVENT
DTSTART;TZID=Europe/Prague:20240122T090000
DTEND;TZID=Europe/Prague:20240122T100000
DTSTAMP:20260422T125213
CREATED:20240119T072430Z
LAST-MODIFIED:20240119T072430Z
UID:2419-1705914000-1705917600@www.msmezivrsi.cz
SUMMARY:Divadlo BRAVO! - předškoláci
DESCRIPTION:Neviditelný cirkus
URL:https://www.msmezivrsi.cz/kalendar/divadlo-bravo-predskolaci/
END:VEVENT
BEGIN:VEVENT
DTSTART;TZID=Europe/Prague:20240123T080000
DTEND;TZID=Europe/Prague:20240123T113000
DTSTAMP:20260422T125213
CREATED:20230829T073403Z
LAST-MODIFIED:20230829T073403Z
UID:2228-1705996800-1706009400@www.msmezivrsi.cz
SUMMARY:Plavecký kurz - 16.lekce
DESCRIPTION:
URL:https://www.msmezivrsi.cz/kalendar/plavecky-kurz-16-lekce/
END:VEVENT
BEGIN:VEVENT
DTSTART;TZID=Europe/Prague:20240126T083000
DTEND;TZID=Europe/Prague:20240126T093000
DTSTAMP:20260422T125213
CREATED:20231222T083017Z
LAST-MODIFIED:20231222T083017Z
UID:2372-1706257800-1706261400@www.msmezivrsi.cz
SUMMARY:Malá technická univerzita - Stavitel mostů - předškoláci
DESCRIPTION:
URL:https://www.msmezivrsi.cz/kalendar/mala-technicka-univerzita-stavitel-mostu-predskolaci-2/
END:VEVENT
BEGIN:VEVENT
DTSTART;TZID=Europe/Prague:20240130T080000
DTEND;TZID=Europe/Prague:20240130T113000
DTSTAMP:20260422T125213
CREATED:20230829T073438Z
LAST-MODIFIED:20230829T073438Z
UID:2230-1706601600-1706614200@www.msmezivrsi.cz
SUMMARY:Plavecký kurz - 17.lekce /poslední lekce/
DESCRIPTION:
URL:https://www.msmezivrsi.cz/kalendar/plavecky-kurz-17-lekce-posledni-lekce/
END:VEVENT
BEGIN:VEVENT
DTSTART;TZID=Europe/Prague:20240131T070000
DTEND;TZID=Europe/Prague:20240131T120000
DTSTAMP:20260422T125213
CREATED:20231222T083318Z
LAST-MODIFIED:20240119T072527Z
UID:2376-1706684400-1706702400@www.msmezivrsi.cz
SUMMARY:Medvídkova nemocnice - dopolední akce
DESCRIPTION:
URL:https://www.msmezivrsi.cz/kalendar/medvidkova-nemocnice-dopoledni-akce/
END:VEVENT
BEGIN:VEVENT
DTSTART;TZID=Europe/Prague:20240131T083000
DTEND;TZID=Europe/Prague:20240131T113000
DTSTAMP:20260422T125213
CREATED:20231222T083158Z
LAST-MODIFIED:20231222T083158Z
UID:2374-1706689800-1706700600@www.msmezivrsi.cz
SUMMARY:Screening školní zralosti - předškoláci
DESCRIPTION:
URL:https://www.msmezivrsi.cz/kalendar/screening-skolni-zralosti-predskolaci-4/
END:VEVENT
END:VCALENDAR