BEGIN:VCALENDAR
VERSION:2.0
PRODID:-//Mateřská škola Mezivrší - ECPv6.15.12.2//NONSGML v1.0//EN
CALSCALE:GREGORIAN
METHOD:PUBLISH
X-WR-CALNAME:Mateřská škola Mezivrší
X-ORIGINAL-URL:https://www.msmezivrsi.cz
X-WR-CALDESC:Akce na Mateřská škola Mezivrší
REFRESH-INTERVAL;VALUE=DURATION:PT1H
X-Robots-Tag:noindex
X-PUBLISHED-TTL:PT1H
BEGIN:VTIMEZONE
TZID:Europe/Prague
BEGIN:DAYLIGHT
TZOFFSETFROM:+0100
TZOFFSETTO:+0200
TZNAME:CEST
DTSTART:20230326T010000
END:DAYLIGHT
BEGIN:STANDARD
TZOFFSETFROM:+0200
TZOFFSETTO:+0100
TZNAME:CET
DTSTART:20231029T010000
END:STANDARD
BEGIN:DAYLIGHT
TZOFFSETFROM:+0100
TZOFFSETTO:+0200
TZNAME:CEST
DTSTART:20240331T010000
END:DAYLIGHT
BEGIN:STANDARD
TZOFFSETFROM:+0200
TZOFFSETTO:+0100
TZNAME:CET
DTSTART:20241027T010000
END:STANDARD
BEGIN:DAYLIGHT
TZOFFSETFROM:+0100
TZOFFSETTO:+0200
TZNAME:CEST
DTSTART:20250330T010000
END:DAYLIGHT
BEGIN:STANDARD
TZOFFSETFROM:+0200
TZOFFSETTO:+0100
TZNAME:CET
DTSTART:20251026T010000
END:STANDARD
END:VTIMEZONE
BEGIN:VEVENT
DTSTART;TZID=Europe/Prague:20240202T070000
DTEND;TZID=Europe/Prague:20240202T173000
DTSTAMP:20260422T112510
CREATED:20231222T083342Z
LAST-MODIFIED:20231222T083342Z
UID:2378-1706857200-1706895000@www.msmezivrsi.cz
SUMMARY:Pololetní prázdniny
DESCRIPTION:
URL:https://www.msmezivrsi.cz/kalendar/pololetni-prazdniny-2/
END:VEVENT
BEGIN:VEVENT
DTSTART;TZID=Europe/Prague:20240205T080000
DTEND;TZID=Europe/Prague:20240209T173000
DTSTAMP:20260422T112510
CREATED:20231222T083407Z
LAST-MODIFIED:20231222T083407Z
UID:2380-1707120000-1707499800@www.msmezivrsi.cz
SUMMARY:Jarní prázdniny
DESCRIPTION:
URL:https://www.msmezivrsi.cz/kalendar/jarni-prazdniny-5/
END:VEVENT
BEGIN:VEVENT
DTSTART;TZID=Europe/Prague:20240213T070000
DTEND;TZID=Europe/Prague:20240213T120000
DTSTAMP:20260422T112510
CREATED:20231222T083459Z
LAST-MODIFIED:20231222T083459Z
UID:2382-1707807600-1707825600@www.msmezivrsi.cz
SUMMARY:Masopust v MŠ (karneval)
DESCRIPTION:
URL:https://www.msmezivrsi.cz/kalendar/masopust-v-ms-karneval/
END:VEVENT
BEGIN:VEVENT
DTSTART;TZID=Europe/Prague:20240214T091500
DTEND;TZID=Europe/Prague:20240214T100000
DTSTAMP:20260422T112510
CREATED:20231222T083548Z
LAST-MODIFIED:20231222T083548Z
UID:2384-1707902100-1707904800@www.msmezivrsi.cz
SUMMARY:Divadélko v MŠ
DESCRIPTION:Pohádka z kuchařské čepice.
URL:https://www.msmezivrsi.cz/kalendar/divadelko-v-ms-12/
END:VEVENT
BEGIN:VEVENT
DTSTART;TZID=Europe/Prague:20240215T100000
DTEND;TZID=Europe/Prague:20240215T110000
DTSTAMP:20260422T112510
CREATED:20231222T083634Z
LAST-MODIFIED:20231222T083634Z
UID:2386-1707991200-1707994800@www.msmezivrsi.cz
SUMMARY:SOKOL - předškoláci
DESCRIPTION:
URL:https://www.msmezivrsi.cz/kalendar/sokol-predskolaci-9/
END:VEVENT
BEGIN:VEVENT
DTSTART;TZID=Europe/Prague:20240222T100000
DTEND;TZID=Europe/Prague:20240222T110000
DTSTAMP:20260422T112510
CREATED:20231222T083657Z
LAST-MODIFIED:20231222T083657Z
UID:2388-1708596000-1708599600@www.msmezivrsi.cz
SUMMARY:SOKOL - předškoláci
DESCRIPTION:
URL:https://www.msmezivrsi.cz/kalendar/sokol-predskolaci-10/
END:VEVENT
BEGIN:VEVENT
DTSTART;TZID=Europe/Prague:20240223T083000
DTEND;TZID=Europe/Prague:20240223T093000
DTSTAMP:20260422T112510
CREATED:20231222T083757Z
LAST-MODIFIED:20231222T083757Z
UID:2392-1708677000-1708680600@www.msmezivrsi.cz
SUMMARY:Malá technická univerzita - Stavitel věží -předškoláci
DESCRIPTION:
URL:https://www.msmezivrsi.cz/kalendar/mala-technicka-univerzita-stavitel-vezi-predskolaci-2/
END:VEVENT
BEGIN:VEVENT
DTSTART;TZID=Europe/Prague:20240229T100000
DTEND;TZID=Europe/Prague:20240229T110000
DTSTAMP:20260422T112510
CREATED:20231222T083719Z
LAST-MODIFIED:20231222T083719Z
UID:2390-1709200800-1709204400@www.msmezivrsi.cz
SUMMARY:SOKOL - předškoláci
DESCRIPTION:
URL:https://www.msmezivrsi.cz/kalendar/sokol-predskolaci-11/
END:VEVENT
END:VCALENDAR