BEGIN:VCALENDAR
VERSION:2.0
PRODID:-//Mateřská škola Mezivrší - ECPv6.15.12.2//NONSGML v1.0//EN
CALSCALE:GREGORIAN
METHOD:PUBLISH
X-WR-CALNAME:Mateřská škola Mezivrší
X-ORIGINAL-URL:https://www.msmezivrsi.cz
X-WR-CALDESC:Akce na Mateřská škola Mezivrší
REFRESH-INTERVAL;VALUE=DURATION:PT1H
X-Robots-Tag:noindex
X-PUBLISHED-TTL:PT1H
BEGIN:VTIMEZONE
TZID:Europe/Prague
BEGIN:DAYLIGHT
TZOFFSETFROM:+0100
TZOFFSETTO:+0200
TZNAME:CEST
DTSTART:20230326T010000
END:DAYLIGHT
BEGIN:STANDARD
TZOFFSETFROM:+0200
TZOFFSETTO:+0100
TZNAME:CET
DTSTART:20231029T010000
END:STANDARD
BEGIN:DAYLIGHT
TZOFFSETFROM:+0100
TZOFFSETTO:+0200
TZNAME:CEST
DTSTART:20240331T010000
END:DAYLIGHT
BEGIN:STANDARD
TZOFFSETFROM:+0200
TZOFFSETTO:+0100
TZNAME:CET
DTSTART:20241027T010000
END:STANDARD
BEGIN:DAYLIGHT
TZOFFSETFROM:+0100
TZOFFSETTO:+0200
TZNAME:CEST
DTSTART:20250330T010000
END:DAYLIGHT
BEGIN:STANDARD
TZOFFSETFROM:+0200
TZOFFSETTO:+0100
TZNAME:CET
DTSTART:20251026T010000
END:STANDARD
END:VTIMEZONE
BEGIN:VEVENT
DTSTART;TZID=Europe/Prague:20240329T070000
DTEND;TZID=Europe/Prague:20240401T173000
DTSTAMP:20260422T075218
CREATED:20231222T084115Z
LAST-MODIFIED:20231222T084115Z
UID:2400-1711695600-1711992600@www.msmezivrsi.cz
SUMMARY:Velikonoční prázdniny - MŠ uzavřena
DESCRIPTION:
URL:https://www.msmezivrsi.cz/kalendar/velikonocni-prazdniny-ms-uzavrena/
END:VEVENT
BEGIN:VEVENT
DTSTART;TZID=Europe/Prague:20240417T091500
DTEND;TZID=Europe/Prague:20240417T100000
DTSTAMP:20260422T075218
CREATED:20231222T084211Z
LAST-MODIFIED:20231222T084211Z
UID:2403-1713345300-1713348000@www.msmezivrsi.cz
SUMMARY:Divadélko v MŠ
DESCRIPTION:Barevná pohádka
URL:https://www.msmezivrsi.cz/kalendar/divadelko-v-ms-14/
END:VEVENT
BEGIN:VEVENT
DTSTART;TZID=Europe/Prague:20240419T091500
DTEND;TZID=Europe/Prague:20240419T100000
DTSTAMP:20260422T075218
CREATED:20240419T114456Z
LAST-MODIFIED:20240419T114456Z
UID:2526-1713518100-1713520800@www.msmezivrsi.cz
SUMMARY:Divadélko v MŠ
DESCRIPTION:„Mokrá pohádka“
URL:https://www.msmezivrsi.cz/kalendar/divadelko-v-ms-15/
END:VEVENT
BEGIN:VEVENT
DTSTART;TZID=Europe/Prague:20240422T090000
DTEND;TZID=Europe/Prague:20240422T113000
DTSTAMP:20260422T075218
CREATED:20240419T113558Z
LAST-MODIFIED:20240419T113558Z
UID:2502-1713776400-1713785400@www.msmezivrsi.cz
SUMMARY:Den ZEMĚ - dopolední akce MŠ
DESCRIPTION:
URL:https://www.msmezivrsi.cz/kalendar/den-zeme-dopoledni-akce-ms/
END:VEVENT
BEGIN:VEVENT
DTSTART;TZID=Europe/Prague:20240425T100000
DTEND;TZID=Europe/Prague:20240425T110000
DTSTAMP:20260422T075218
CREATED:20240419T114006Z
LAST-MODIFIED:20240419T114006Z
UID:2506-1714039200-1714042800@www.msmezivrsi.cz
SUMMARY:SOKOL Braník - předškoláci
DESCRIPTION:
URL:https://www.msmezivrsi.cz/kalendar/sokol-branik-predskolaci-15/
END:VEVENT
BEGIN:VEVENT
DTSTART;TZID=Europe/Prague:20240426T083000
DTEND;TZID=Europe/Prague:20240426T093000
DTSTAMP:20260422T075218
CREATED:20231222T084255Z
LAST-MODIFIED:20231222T084255Z
UID:2404-1714120200-1714123800@www.msmezivrsi.cz
SUMMARY:Malá technická univerzita - Malý energetik - předškoláci
DESCRIPTION:
URL:https://www.msmezivrsi.cz/kalendar/mala-technicka-univerzita-maly-energetik-predskolaci-2/
END:VEVENT
BEGIN:VEVENT
DTSTART;TZID=Europe/Prague:20240430T070000
DTEND;TZID=Europe/Prague:20240430T120000
DTSTAMP:20260422T075218
CREATED:20231222T084338Z
LAST-MODIFIED:20231222T084338Z
UID:2407-1714460400-1714478400@www.msmezivrsi.cz
SUMMARY:Čarodějnice v MŠ - dopolední akce
DESCRIPTION:
URL:https://www.msmezivrsi.cz/kalendar/carodejnice-v-ms-dopoledni-akce/
END:VEVENT
END:VCALENDAR