BEGIN:VCALENDAR
VERSION:2.0
PRODID:-//Mateřská škola Mezivrší - ECPv6.15.12.2//NONSGML v1.0//EN
CALSCALE:GREGORIAN
METHOD:PUBLISH
X-WR-CALNAME:Mateřská škola Mezivrší
X-ORIGINAL-URL:https://www.msmezivrsi.cz
X-WR-CALDESC:Akce na Mateřská škola Mezivrší
REFRESH-INTERVAL;VALUE=DURATION:PT1H
X-Robots-Tag:noindex
X-PUBLISHED-TTL:PT1H
BEGIN:VTIMEZONE
TZID:Europe/Prague
BEGIN:DAYLIGHT
TZOFFSETFROM:+0100
TZOFFSETTO:+0200
TZNAME:CEST
DTSTART:20230326T010000
END:DAYLIGHT
BEGIN:STANDARD
TZOFFSETFROM:+0200
TZOFFSETTO:+0100
TZNAME:CET
DTSTART:20231029T010000
END:STANDARD
BEGIN:DAYLIGHT
TZOFFSETFROM:+0100
TZOFFSETTO:+0200
TZNAME:CEST
DTSTART:20240331T010000
END:DAYLIGHT
BEGIN:STANDARD
TZOFFSETFROM:+0200
TZOFFSETTO:+0100
TZNAME:CET
DTSTART:20241027T010000
END:STANDARD
BEGIN:DAYLIGHT
TZOFFSETFROM:+0100
TZOFFSETTO:+0200
TZNAME:CEST
DTSTART:20250330T010000
END:DAYLIGHT
BEGIN:STANDARD
TZOFFSETFROM:+0200
TZOFFSETTO:+0100
TZNAME:CET
DTSTART:20251026T010000
END:STANDARD
END:VTIMEZONE
BEGIN:VEVENT
DTSTART;TZID=Europe/Prague:20240501T070000
DTEND;TZID=Europe/Prague:20240501T173000
DTSTAMP:20260422T060824
CREATED:20240419T114226Z
LAST-MODIFIED:20240419T114226Z
UID:2518-1714546800-1714584600@www.msmezivrsi.cz
SUMMARY:Státní svátek - MŠ uzavřena
DESCRIPTION:
URL:https://www.msmezivrsi.cz/kalendar/statni-svatek-ms-uzavrena-5/
END:VEVENT
BEGIN:VEVENT
DTSTART;TZID=Europe/Prague:20240502T100000
DTEND;TZID=Europe/Prague:20240502T110000
DTSTAMP:20260422T060824
CREATED:20240419T114027Z
LAST-MODIFIED:20240419T114027Z
UID:2508-1714644000-1714647600@www.msmezivrsi.cz
SUMMARY:SOKOL Braník - předškoláci
DESCRIPTION:
URL:https://www.msmezivrsi.cz/kalendar/sokol-branik-predskolaci-16/
END:VEVENT
BEGIN:VEVENT
DTSTART;TZID=Europe/Prague:20240508T070000
DTEND;TZID=Europe/Prague:20240508T173000
DTSTAMP:20260422T060824
CREATED:20240419T114245Z
LAST-MODIFIED:20240419T114245Z
UID:2520-1715151600-1715189400@www.msmezivrsi.cz
SUMMARY:Státní svátek - MŠ uzavřena
DESCRIPTION:
URL:https://www.msmezivrsi.cz/kalendar/statni-svatek-ms-uzavrena-6/
END:VEVENT
BEGIN:VEVENT
DTSTART;TZID=Europe/Prague:20240509T100000
DTEND;TZID=Europe/Prague:20240509T110000
DTSTAMP:20260422T060824
CREATED:20240419T114047Z
LAST-MODIFIED:20240419T114047Z
UID:2510-1715248800-1715252400@www.msmezivrsi.cz
SUMMARY:SOKOL Braník - předškoláci
DESCRIPTION:
URL:https://www.msmezivrsi.cz/kalendar/sokol-branik-predskolaci-17/
END:VEVENT
BEGIN:VEVENT
DTSTART;TZID=Europe/Prague:20240515T083000
DTEND;TZID=Europe/Prague:20240515T090000
DTSTAMP:20260422T060824
CREATED:20240419T114335Z
LAST-MODIFIED:20240419T114335Z
UID:2522-1715761800-1715763600@www.msmezivrsi.cz
SUMMARY:Focení v MŠ
DESCRIPTION:Focení tříd na zahradě MŠ.
URL:https://www.msmezivrsi.cz/kalendar/foceni-v-ms/
END:VEVENT
BEGIN:VEVENT
DTSTART;TZID=Europe/Prague:20240516T100000
DTEND;TZID=Europe/Prague:20240516T110000
DTSTAMP:20260422T060824
CREATED:20240419T114111Z
LAST-MODIFIED:20240419T114111Z
UID:2512-1715853600-1715857200@www.msmezivrsi.cz
SUMMARY:SOKOL Braník - předškoláci
DESCRIPTION:
URL:https://www.msmezivrsi.cz/kalendar/sokol-branik-predskolaci-18/
END:VEVENT
BEGIN:VEVENT
DTSTART;TZID=Europe/Prague:20240520T083000
DTEND;TZID=Europe/Prague:20240520T093000
DTSTAMP:20260422T060824
CREATED:20240419T114421Z
LAST-MODIFIED:20240419T114421Z
UID:2524-1716193800-1716197400@www.msmezivrsi.cz
SUMMARY:Malá technická univerzita - Malý zpracovatel odpadu - předškoláci
DESCRIPTION:
URL:https://www.msmezivrsi.cz/kalendar/mala-technicka-univerzita-maly-zpracovatel-odpadu-predskolaci/
END:VEVENT
BEGIN:VEVENT
DTSTART;TZID=Europe/Prague:20240523T100000
DTEND;TZID=Europe/Prague:20240523T110000
DTSTAMP:20260422T060824
CREATED:20240419T114130Z
LAST-MODIFIED:20240419T114130Z
UID:2514-1716458400-1716462000@www.msmezivrsi.cz
SUMMARY:SOKOL Braník - předškoláci
DESCRIPTION:
URL:https://www.msmezivrsi.cz/kalendar/sokol-branik-predskolaci-19/
END:VEVENT
BEGIN:VEVENT
DTSTART;TZID=Europe/Prague:20240529T100000
DTEND;TZID=Europe/Prague:20240529T110000
DTSTAMP:20260422T060824
CREATED:20240419T114621Z
LAST-MODIFIED:20240419T114621Z
UID:2528-1716976800-1716980400@www.msmezivrsi.cz
SUMMARY:Divadlo BRAVO! - modrá třída
DESCRIPTION:„Hra o trůn“
URL:https://www.msmezivrsi.cz/kalendar/divadlo-bravo-modra-trida/
END:VEVENT
BEGIN:VEVENT
DTSTART;TZID=Europe/Prague:20240530T100000
DTEND;TZID=Europe/Prague:20240530T110000
DTSTAMP:20260422T060824
CREATED:20240419T114156Z
LAST-MODIFIED:20240419T114156Z
UID:2516-1717063200-1717066800@www.msmezivrsi.cz
SUMMARY:SOKOL Braník - předškoláci
DESCRIPTION:
URL:https://www.msmezivrsi.cz/kalendar/sokol-branik-predskolaci-20/
END:VEVENT
END:VCALENDAR