BEGIN:VCALENDAR
VERSION:2.0
PRODID:-//Mateřská škola Mezivrší - ECPv6.15.12.2//NONSGML v1.0//EN
CALSCALE:GREGORIAN
METHOD:PUBLISH
X-WR-CALNAME:Mateřská škola Mezivrší
X-ORIGINAL-URL:https://www.msmezivrsi.cz
X-WR-CALDESC:Akce na Mateřská škola Mezivrší
REFRESH-INTERVAL;VALUE=DURATION:PT1H
X-Robots-Tag:noindex
X-PUBLISHED-TTL:PT1H
BEGIN:VTIMEZONE
TZID:Europe/Prague
BEGIN:DAYLIGHT
TZOFFSETFROM:+0100
TZOFFSETTO:+0200
TZNAME:CEST
DTSTART:20230326T010000
END:DAYLIGHT
BEGIN:STANDARD
TZOFFSETFROM:+0200
TZOFFSETTO:+0100
TZNAME:CET
DTSTART:20231029T010000
END:STANDARD
BEGIN:DAYLIGHT
TZOFFSETFROM:+0100
TZOFFSETTO:+0200
TZNAME:CEST
DTSTART:20240331T010000
END:DAYLIGHT
BEGIN:STANDARD
TZOFFSETFROM:+0200
TZOFFSETTO:+0100
TZNAME:CET
DTSTART:20241027T010000
END:STANDARD
BEGIN:DAYLIGHT
TZOFFSETFROM:+0100
TZOFFSETTO:+0200
TZNAME:CEST
DTSTART:20250330T010000
END:DAYLIGHT
BEGIN:STANDARD
TZOFFSETFROM:+0200
TZOFFSETTO:+0100
TZNAME:CET
DTSTART:20251026T010000
END:STANDARD
END:VTIMEZONE
BEGIN:VEVENT
DTSTART;TZID=Europe/Prague:20240902T170000
DTEND;TZID=Europe/Prague:20240902T180000
DTSTAMP:20260421T225258
CREATED:20240829T082535Z
LAST-MODIFIED:20240829T082535Z
UID:2597-1725296400-1725300000@www.msmezivrsi.cz
SUMMARY:Třídní schůzky
DESCRIPTION:
URL:https://www.msmezivrsi.cz/kalendar/tridni-schuzky-2/
END:VEVENT
BEGIN:VEVENT
DTSTART;TZID=Europe/Prague:20240917T080000
DTEND;TZID=Europe/Prague:20240917T113000
DTSTAMP:20260421T225258
CREATED:20240829T082618Z
LAST-MODIFIED:20240829T082618Z
UID:2599-1726560000-1726572600@www.msmezivrsi.cz
SUMMARY:1. plavecký kurz
DESCRIPTION:
URL:https://www.msmezivrsi.cz/kalendar/1-plavecky-kurz/
END:VEVENT
BEGIN:VEVENT
DTSTART;TZID=Europe/Prague:20240918T093000
DTEND;TZID=Europe/Prague:20240918T103000
DTSTAMP:20260421T225258
CREATED:20240829T082711Z
LAST-MODIFIED:20240829T082711Z
UID:2601-1726651800-1726655400@www.msmezivrsi.cz
SUMMARY:Divadélko v MŠ
DESCRIPTION:„František jde do školky“
URL:https://www.msmezivrsi.cz/kalendar/divadelko-v-ms-16/
END:VEVENT
BEGIN:VEVENT
DTSTART;TZID=Europe/Prague:20240920T083000
DTEND;TZID=Europe/Prague:20240920T093000
DTSTAMP:20260421T225258
CREATED:20240829T082816Z
LAST-MODIFIED:20240829T082945Z
UID:2603-1726821000-1726824600@www.msmezivrsi.cz
SUMMARY:Malá digitální univerzita - předškoláčci
DESCRIPTION:„Logické hry I.“
URL:https://www.msmezivrsi.cz/kalendar/mala-digitalni-univerzita-predskolacci/
END:VEVENT
END:VCALENDAR