BEGIN:VCALENDAR
VERSION:2.0
PRODID:-//Mateřská škola Mezivrší - ECPv6.15.12.2//NONSGML v1.0//EN
CALSCALE:GREGORIAN
METHOD:PUBLISH
X-ORIGINAL-URL:https://www.msmezivrsi.cz
X-WR-CALDESC:Akce na Mateřská škola Mezivrší
REFRESH-INTERVAL;VALUE=DURATION:PT1H
X-Robots-Tag:noindex
X-PUBLISHED-TTL:PT1H
BEGIN:VTIMEZONE
TZID:Europe/Prague
BEGIN:DAYLIGHT
TZOFFSETFROM:+0100
TZOFFSETTO:+0200
TZNAME:CEST
DTSTART:20230326T010000
END:DAYLIGHT
BEGIN:STANDARD
TZOFFSETFROM:+0200
TZOFFSETTO:+0100
TZNAME:CET
DTSTART:20231029T010000
END:STANDARD
BEGIN:DAYLIGHT
TZOFFSETFROM:+0100
TZOFFSETTO:+0200
TZNAME:CEST
DTSTART:20240331T010000
END:DAYLIGHT
BEGIN:STANDARD
TZOFFSETFROM:+0200
TZOFFSETTO:+0100
TZNAME:CET
DTSTART:20241027T010000
END:STANDARD
BEGIN:DAYLIGHT
TZOFFSETFROM:+0100
TZOFFSETTO:+0200
TZNAME:CEST
DTSTART:20250330T010000
END:DAYLIGHT
BEGIN:STANDARD
TZOFFSETFROM:+0200
TZOFFSETTO:+0100
TZNAME:CET
DTSTART:20251026T010000
END:STANDARD
END:VTIMEZONE
BEGIN:VEVENT
DTSTART;TZID=Europe/Prague:20241202T170000
DTEND;TZID=Europe/Prague:20241202T173000
DTSTAMP:20260421T175755
CREATED:20240909T113104Z
LAST-MODIFIED:20240909T113104Z
UID:2631-1733158800-1733160600@www.msmezivrsi.cz
SUMMARY:Rozsvěcení vánočního stromu
DESCRIPTION:
URL:https://www.msmezivrsi.cz/kalendar/rozsveceni-vanocniho-stromu/
END:VEVENT
BEGIN:VEVENT
DTSTART;TZID=Europe/Prague:20241204T100000
DTEND;TZID=Europe/Prague:20241204T110000
DTSTAMP:20260421T175755
CREATED:20241108T102729Z
LAST-MODIFIED:20241108T102729Z
UID:2678-1733306400-1733310000@www.msmezivrsi.cz
SUMMARY:Divadlo Dobeška - předškolní děti
DESCRIPTION:
URL:https://www.msmezivrsi.cz/kalendar/divadlo-dobeska-predskolni-deti/
END:VEVENT
BEGIN:VEVENT
DTSTART;TZID=Europe/Prague:20241205T083000
DTEND;TZID=Europe/Prague:20241205T093000
DTSTAMP:20260421T175755
CREATED:20240909T113142Z
LAST-MODIFIED:20240909T113142Z
UID:2633-1733387400-1733391000@www.msmezivrsi.cz
SUMMARY:Mikuláš v MŠ - Andělský den
DESCRIPTION:
URL:https://www.msmezivrsi.cz/kalendar/mikulas-v-ms-andelsky-den/
END:VEVENT
BEGIN:VEVENT
DTSTART;TZID=Europe/Prague:20241211T083000
DTEND;TZID=Europe/Prague:20241211T113000
DTSTAMP:20260421T175755
CREATED:20240909T113223Z
LAST-MODIFIED:20240909T113223Z
UID:2635-1733905800-1733916600@www.msmezivrsi.cz
SUMMARY:Vánoční dílničky
DESCRIPTION:Dopolední akce na třídách
URL:https://www.msmezivrsi.cz/kalendar/vanocni-dilnicky-2/
END:VEVENT
BEGIN:VEVENT
DTSTART;TZID=Europe/Prague:20241218T160000
DTEND;TZID=Europe/Prague:20241218T180000
DTSTAMP:20260421T175755
CREATED:20240909T113309Z
LAST-MODIFIED:20240909T113309Z
UID:2637-1734537600-1734544800@www.msmezivrsi.cz
SUMMARY:Vánoční JARMARK
DESCRIPTION:Odpoledne s rodiči.
URL:https://www.msmezivrsi.cz/kalendar/vanocni-jarmark/
END:VEVENT
BEGIN:VEVENT
DTSTART;TZID=Europe/Prague:20241220T093000
DTEND;TZID=Europe/Prague:20241220T110000
DTSTAMP:20260421T175755
CREATED:20240909T113350Z
LAST-MODIFIED:20240909T113350Z
UID:2639-1734687000-1734692400@www.msmezivrsi.cz
SUMMARY:RYBOVKA - Obecní dům - Rybova mše - předškoláci
DESCRIPTION:
URL:https://www.msmezivrsi.cz/kalendar/rybovka-obecni-dum-rybova-mse-predskolaci/
END:VEVENT
END:VCALENDAR