BEGIN:VCALENDAR
VERSION:2.0
PRODID:-//Mateřská škola Mezivrší - ECPv6.15.12.2//NONSGML v1.0//EN
CALSCALE:GREGORIAN
METHOD:PUBLISH
X-WR-CALNAME:Mateřská škola Mezivrší
X-ORIGINAL-URL:https://www.msmezivrsi.cz
X-WR-CALDESC:Akce na Mateřská škola Mezivrší
REFRESH-INTERVAL;VALUE=DURATION:PT1H
X-Robots-Tag:noindex
X-PUBLISHED-TTL:PT1H
BEGIN:VTIMEZONE
TZID:Europe/Prague
BEGIN:DAYLIGHT
TZOFFSETFROM:+0100
TZOFFSETTO:+0200
TZNAME:CEST
DTSTART:20240331T010000
END:DAYLIGHT
BEGIN:STANDARD
TZOFFSETFROM:+0200
TZOFFSETTO:+0100
TZNAME:CET
DTSTART:20241027T010000
END:STANDARD
BEGIN:DAYLIGHT
TZOFFSETFROM:+0100
TZOFFSETTO:+0200
TZNAME:CEST
DTSTART:20250330T010000
END:DAYLIGHT
BEGIN:STANDARD
TZOFFSETFROM:+0200
TZOFFSETTO:+0100
TZNAME:CET
DTSTART:20251026T010000
END:STANDARD
BEGIN:DAYLIGHT
TZOFFSETFROM:+0100
TZOFFSETTO:+0200
TZNAME:CEST
DTSTART:20260329T010000
END:DAYLIGHT
BEGIN:STANDARD
TZOFFSETFROM:+0200
TZOFFSETTO:+0100
TZNAME:CET
DTSTART:20261025T010000
END:STANDARD
END:VTIMEZONE
BEGIN:VEVENT
DTSTART;TZID=Europe/Prague:20250210T070000
DTEND;TZID=Europe/Prague:20250214T170000
DTSTAMP:20260421T143844
CREATED:20250105T205635Z
LAST-MODIFIED:20250105T205635Z
UID:2722-1739170800-1739552400@www.msmezivrsi.cz
SUMMARY:Jarní prázdniny - MŠ v omezeném provozu
DESCRIPTION:
URL:https://www.msmezivrsi.cz/kalendar/jarni-prazdniny-ms-v-omezenem-provozu/
END:VEVENT
BEGIN:VEVENT
DTSTART;TZID=Europe/Prague:20250217T083000
DTEND;TZID=Europe/Prague:20250217T093000
DTSTAMP:20260421T143844
CREATED:20250217T062109Z
LAST-MODIFIED:20250217T062109Z
UID:2770-1739781000-1739784600@www.msmezivrsi.cz
SUMMARY:Vyšetření očí
DESCRIPTION:
URL:https://www.msmezivrsi.cz/kalendar/vysetreni-oci/
END:VEVENT
BEGIN:VEVENT
DTSTART;TZID=Europe/Prague:20250219T090000
DTEND;TZID=Europe/Prague:20250219T113000
DTSTAMP:20260421T143844
CREATED:20250217T062142Z
LAST-MODIFIED:20250217T062142Z
UID:2772-1739955600-1739964600@www.msmezivrsi.cz
SUMMARY:Záchranáři v MŠ
DESCRIPTION:
URL:https://www.msmezivrsi.cz/kalendar/zachranari-v-ms/
END:VEVENT
BEGIN:VEVENT
DTSTART;TZID=Europe/Prague:20250220T100000
DTEND;TZID=Europe/Prague:20250220T110000
DTSTAMP:20260421T143844
CREATED:20250217T062258Z
LAST-MODIFIED:20250217T062258Z
UID:2774-1740045600-1740049200@www.msmezivrsi.cz
SUMMARY:Návštěva ZŠ Školní-předškoláci
DESCRIPTION:
URL:https://www.msmezivrsi.cz/kalendar/navsteva-zs-skolni-predskolaci-2/
END:VEVENT
BEGIN:VEVENT
DTSTART;TZID=Europe/Prague:20250221T091500
DTEND;TZID=Europe/Prague:20250221T100000
DTSTAMP:20260421T143844
CREATED:20250105T205734Z
LAST-MODIFIED:20250217T062211Z
UID:2724-1740129300-1740132000@www.msmezivrsi.cz
SUMMARY:Divadélko v MŠ
DESCRIPTION:Cirkus na kolečkách
URL:https://www.msmezivrsi.cz/kalendar/divadelko-v-ms-20/
END:VEVENT
BEGIN:VEVENT
DTSTART;TZID=Europe/Prague:20250228T083000
DTEND;TZID=Europe/Prague:20250228T093000
DTSTAMP:20260421T143844
CREATED:20250105T205929Z
LAST-MODIFIED:20250105T205929Z
UID:2726-1740731400-1740735000@www.msmezivrsi.cz
SUMMARY:Malá technická univerzita - Stavitel mostů - předškoláci
DESCRIPTION:
URL:https://www.msmezivrsi.cz/kalendar/mala-technicka-univerzita-stavitel-mostu-predskolaci-3/
END:VEVENT
END:VCALENDAR