BEGIN:VCALENDAR
VERSION:2.0
PRODID:-//Mateřská škola Mezivrší - ECPv6.15.12.2//NONSGML v1.0//EN
CALSCALE:GREGORIAN
METHOD:PUBLISH
X-ORIGINAL-URL:https://www.msmezivrsi.cz
X-WR-CALDESC:Akce na Mateřská škola Mezivrší
REFRESH-INTERVAL;VALUE=DURATION:PT1H
X-Robots-Tag:noindex
X-PUBLISHED-TTL:PT1H
BEGIN:VTIMEZONE
TZID:Europe/Prague
BEGIN:DAYLIGHT
TZOFFSETFROM:+0100
TZOFFSETTO:+0200
TZNAME:CEST
DTSTART:20240331T010000
END:DAYLIGHT
BEGIN:STANDARD
TZOFFSETFROM:+0200
TZOFFSETTO:+0100
TZNAME:CET
DTSTART:20241027T010000
END:STANDARD
BEGIN:DAYLIGHT
TZOFFSETFROM:+0100
TZOFFSETTO:+0200
TZNAME:CEST
DTSTART:20250330T010000
END:DAYLIGHT
BEGIN:STANDARD
TZOFFSETFROM:+0200
TZOFFSETTO:+0100
TZNAME:CET
DTSTART:20251026T010000
END:STANDARD
BEGIN:DAYLIGHT
TZOFFSETFROM:+0100
TZOFFSETTO:+0200
TZNAME:CEST
DTSTART:20260329T010000
END:DAYLIGHT
BEGIN:STANDARD
TZOFFSETFROM:+0200
TZOFFSETTO:+0100
TZNAME:CET
DTSTART:20261025T010000
END:STANDARD
END:VTIMEZONE
BEGIN:VEVENT
DTSTART;TZID=Europe/Prague:20250901T170000
DTEND;TZID=Europe/Prague:20250901T183000
DTSTAMP:20260421T024902
CREATED:20250831T071736Z
LAST-MODIFIED:20250831T071736Z
UID:2974-1756746000-1756751400@www.msmezivrsi.cz
SUMMARY:Třídní schůzky pro rodiče
DESCRIPTION:
URL:https://www.msmezivrsi.cz/kalendar/tridni-schuzky-pro-rodice-2/
END:VEVENT
BEGIN:VEVENT
DTSTART;TZID=Europe/Prague:20250916T080000
DTEND;TZID=Europe/Prague:20250916T113000
DTSTAMP:20260421T024902
CREATED:20250831T071823Z
LAST-MODIFIED:20250831T071823Z
UID:2976-1758009600-1758022200@www.msmezivrsi.cz
SUMMARY:Plavecký kurz v Aquapalace Čestlice
DESCRIPTION:
URL:https://www.msmezivrsi.cz/kalendar/plavecky-kurz-v-aquapalace-cestlice-10/
END:VEVENT
BEGIN:VEVENT
DTSTART;TZID=Europe/Prague:20250923T080000
DTEND;TZID=Europe/Prague:20250923T113000
DTSTAMP:20260421T024902
CREATED:20250831T071850Z
LAST-MODIFIED:20250831T071850Z
UID:2978-1758614400-1758627000@www.msmezivrsi.cz
SUMMARY:Plavecký kurz v Aquapalace Čestlice
DESCRIPTION:
URL:https://www.msmezivrsi.cz/kalendar/plavecky-kurz-v-aquapalace-cestlice-11/
END:VEVENT
BEGIN:VEVENT
DTSTART;TZID=Europe/Prague:20250924T091500
DTEND;TZID=Europe/Prague:20250924T100000
DTSTAMP:20260421T024902
CREATED:20250831T072011Z
LAST-MODIFIED:20250831T072011Z
UID:2982-1758705300-1758708000@www.msmezivrsi.cz
SUMMARY:Divadélko v MŠ
DESCRIPTION:Červená Karkulka
URL:https://www.msmezivrsi.cz/kalendar/divadelko-v-ms-21/
END:VEVENT
BEGIN:VEVENT
DTSTART;TZID=Europe/Prague:20250930T080000
DTEND;TZID=Europe/Prague:20250930T113000
DTSTAMP:20260421T024902
CREATED:20250831T071920Z
LAST-MODIFIED:20250831T071920Z
UID:2980-1759219200-1759231800@www.msmezivrsi.cz
SUMMARY:Plavecký kurz v Aquapalace Čestlice
DESCRIPTION:
URL:https://www.msmezivrsi.cz/kalendar/plavecky-kurz-v-aquapalace-cestlice-12/
END:VEVENT
END:VCALENDAR