BEGIN:VCALENDAR
VERSION:2.0
PRODID:-//Mateřská škola Mezivrší - ECPv6.15.12.2//NONSGML v1.0//EN
CALSCALE:GREGORIAN
METHOD:PUBLISH
X-WR-CALNAME:Mateřská škola Mezivrší
X-ORIGINAL-URL:https://www.msmezivrsi.cz
X-WR-CALDESC:Akce na Mateřská škola Mezivrší
REFRESH-INTERVAL;VALUE=DURATION:PT1H
X-Robots-Tag:noindex
X-PUBLISHED-TTL:PT1H
BEGIN:VTIMEZONE
TZID:Europe/Prague
BEGIN:DAYLIGHT
TZOFFSETFROM:+0100
TZOFFSETTO:+0200
TZNAME:CEST
DTSTART:20240331T010000
END:DAYLIGHT
BEGIN:STANDARD
TZOFFSETFROM:+0200
TZOFFSETTO:+0100
TZNAME:CET
DTSTART:20241027T010000
END:STANDARD
BEGIN:DAYLIGHT
TZOFFSETFROM:+0100
TZOFFSETTO:+0200
TZNAME:CEST
DTSTART:20250330T010000
END:DAYLIGHT
BEGIN:STANDARD
TZOFFSETFROM:+0200
TZOFFSETTO:+0100
TZNAME:CET
DTSTART:20251026T010000
END:STANDARD
BEGIN:DAYLIGHT
TZOFFSETFROM:+0100
TZOFFSETTO:+0200
TZNAME:CEST
DTSTART:20260329T010000
END:DAYLIGHT
BEGIN:STANDARD
TZOFFSETFROM:+0200
TZOFFSETTO:+0100
TZNAME:CET
DTSTART:20261025T010000
END:STANDARD
END:VTIMEZONE
BEGIN:VEVENT
DTSTART;TZID=Europe/Prague:20251002T090000
DTEND;TZID=Europe/Prague:20251002T100000
DTSTAMP:20260421T010738
CREATED:20250831T072102Z
LAST-MODIFIED:20250831T072102Z
UID:2984-1759395600-1759399200@www.msmezivrsi.cz
SUMMARY:Rudolfinum - předškoláci
DESCRIPTION:
URL:https://www.msmezivrsi.cz/kalendar/rudolfinum-predskolaci/
END:VEVENT
BEGIN:VEVENT
DTSTART;TZID=Europe/Prague:20251003T083000
DTEND;TZID=Europe/Prague:20251003T093000
DTSTAMP:20260421T010738
CREATED:20250925T072101Z
LAST-MODIFIED:20250925T072101Z
UID:3066-1759480200-1759483800@www.msmezivrsi.cz
SUMMARY:Malá technická univerzita - předškoláci
DESCRIPTION:Stavitel města
URL:https://www.msmezivrsi.cz/kalendar/mala-technicka-univerzita-predskolaci-5/
END:VEVENT
BEGIN:VEVENT
DTSTART;TZID=Europe/Prague:20251007T080000
DTEND;TZID=Europe/Prague:20251007T113000
DTSTAMP:20260421T010738
CREATED:20250831T072129Z
LAST-MODIFIED:20250831T072129Z
UID:2986-1759824000-1759836600@www.msmezivrsi.cz
SUMMARY:Plavecký kurz v Aquapalace Čestlice
DESCRIPTION:
URL:https://www.msmezivrsi.cz/kalendar/plavecky-kurz-v-aquapalace-cestlice-13/
END:VEVENT
BEGIN:VEVENT
DTSTART;TZID=Europe/Prague:20251008T083000
DTEND;TZID=Europe/Prague:20251008T093000
DTSTAMP:20260421T010738
CREATED:20250831T072457Z
LAST-MODIFIED:20250831T074342Z
UID:2996-1759912200-1759915800@www.msmezivrsi.cz
SUMMARY:Malá technická univerzita - předškoláci
DESCRIPTION:Stavitel města
URL:https://www.msmezivrsi.cz/kalendar/mala-technicka-univerzita-predskolaci-3/
END:VEVENT
BEGIN:VEVENT
DTSTART;TZID=Europe/Prague:20251014T080000
DTEND;TZID=Europe/Prague:20251014T113000
DTSTAMP:20260421T010738
CREATED:20250831T072155Z
LAST-MODIFIED:20250831T072155Z
UID:2988-1760428800-1760441400@www.msmezivrsi.cz
SUMMARY:Plavecký kurz v Aquapalace Čestlice
DESCRIPTION:
URL:https://www.msmezivrsi.cz/kalendar/plavecky-kurz-v-aquapalace-cestlice-14/
END:VEVENT
BEGIN:VEVENT
DTSTART;TZID=Europe/Prague:20251015T091500
DTEND;TZID=Europe/Prague:20251015T100000
DTSTAMP:20260421T010738
CREATED:20250831T072611Z
LAST-MODIFIED:20250831T072611Z
UID:2998-1760519700-1760522400@www.msmezivrsi.cz
SUMMARY:Divadélko v MŠ
DESCRIPTION:Krakonošova čarovná fajfka
URL:https://www.msmezivrsi.cz/kalendar/divadelko-v-ms-22/
END:VEVENT
BEGIN:VEVENT
DTSTART;TZID=Europe/Prague:20251021T080000
DTEND;TZID=Europe/Prague:20251021T113000
DTSTAMP:20260421T010738
CREATED:20250831T072230Z
LAST-MODIFIED:20250831T072230Z
UID:2990-1761033600-1761046200@www.msmezivrsi.cz
SUMMARY:Plavecký kurz v Aquapalace Čestlice
DESCRIPTION:
URL:https://www.msmezivrsi.cz/kalendar/plavecky-kurz-v-aquapalace-cestlice-15/
END:VEVENT
BEGIN:VEVENT
DTSTART;TZID=Europe/Prague:20251023T153000
DTEND;TZID=Europe/Prague:20251023T173000
DTSTAMP:20260421T010738
CREATED:20250831T072703Z
LAST-MODIFIED:20250831T072703Z
UID:3000-1761233400-1761240600@www.msmezivrsi.cz
SUMMARY:DÝŇOBRANÍ - akce pro rodiče s dětmi
DESCRIPTION:
URL:https://www.msmezivrsi.cz/kalendar/dynobrani-akce-pro-rodice-s-detmi/
END:VEVENT
BEGIN:VEVENT
DTSTART;TZID=Europe/Prague:20251027T070000
DTEND;TZID=Europe/Prague:20251029T173000
DTSTAMP:20260421T010738
CREATED:20250831T072319Z
LAST-MODIFIED:20250831T072319Z
UID:2992-1761548400-1761759000@www.msmezivrsi.cz
SUMMARY:PODZIMNÍ PRÁZDNINY
DESCRIPTION:
URL:https://www.msmezivrsi.cz/kalendar/podzimni-prazdniny-5/
END:VEVENT
BEGIN:VEVENT
DTSTART;TZID=Europe/Prague:20251028T070000
DTEND;TZID=Europe/Prague:20251028T173000
DTSTAMP:20260421T010738
CREATED:20250831T072355Z
LAST-MODIFIED:20250831T072355Z
UID:2994-1761634800-1761672600@www.msmezivrsi.cz
SUMMARY:Státní svátek - MŠ uzavřena
DESCRIPTION:
URL:https://www.msmezivrsi.cz/kalendar/statni-svatek-ms-uzavrena-10/
END:VEVENT
BEGIN:VEVENT
DTSTART;TZID=Europe/Prague:20251031T070000
DTEND;TZID=Europe/Prague:20251031T120000
DTSTAMP:20260421T010738
CREATED:20250831T072751Z
LAST-MODIFIED:20250831T072751Z
UID:3002-1761894000-1761912000@www.msmezivrsi.cz
SUMMARY:HALLOWEEN -dopolední akce pro děti
DESCRIPTION:
URL:https://www.msmezivrsi.cz/kalendar/halloween-dopoledni-akce-pro-deti/
END:VEVENT
END:VCALENDAR