BEGIN:VCALENDAR
VERSION:2.0
PRODID:-//Mateřská škola Mezivrší - ECPv6.15.12.2//NONSGML v1.0//EN
CALSCALE:GREGORIAN
METHOD:PUBLISH
X-ORIGINAL-URL:https://www.msmezivrsi.cz
X-WR-CALDESC:Akce na Mateřská škola Mezivrší
REFRESH-INTERVAL;VALUE=DURATION:PT1H
X-Robots-Tag:noindex
X-PUBLISHED-TTL:PT1H
BEGIN:VTIMEZONE
TZID:Europe/Prague
BEGIN:DAYLIGHT
TZOFFSETFROM:+0100
TZOFFSETTO:+0200
TZNAME:CEST
DTSTART:20240331T010000
END:DAYLIGHT
BEGIN:STANDARD
TZOFFSETFROM:+0200
TZOFFSETTO:+0100
TZNAME:CET
DTSTART:20241027T010000
END:STANDARD
BEGIN:DAYLIGHT
TZOFFSETFROM:+0100
TZOFFSETTO:+0200
TZNAME:CEST
DTSTART:20250330T010000
END:DAYLIGHT
BEGIN:STANDARD
TZOFFSETFROM:+0200
TZOFFSETTO:+0100
TZNAME:CET
DTSTART:20251026T010000
END:STANDARD
BEGIN:DAYLIGHT
TZOFFSETFROM:+0100
TZOFFSETTO:+0200
TZNAME:CEST
DTSTART:20260329T010000
END:DAYLIGHT
BEGIN:STANDARD
TZOFFSETFROM:+0200
TZOFFSETTO:+0100
TZNAME:CET
DTSTART:20261025T010000
END:STANDARD
BEGIN:DAYLIGHT
TZOFFSETFROM:+0100
TZOFFSETTO:+0200
TZNAME:CEST
DTSTART:20270328T010000
END:DAYLIGHT
BEGIN:STANDARD
TZOFFSETFROM:+0200
TZOFFSETTO:+0100
TZNAME:CET
DTSTART:20271031T010000
END:STANDARD
END:VTIMEZONE
BEGIN:VEVENT
DTSTART;TZID=Europe/Prague:20251201T160000
DTEND;TZID=Europe/Prague:20251201T170000
DTSTAMP:20260420T220414
CREATED:20250831T073623Z
LAST-MODIFIED:20251124T073308Z
UID:3024-1764604800-1764608400@www.msmezivrsi.cz
SUMMARY:ROZSVĚCENÍ VÁNOČNÍHO STROMU - akce pro rodiče s dětmi
DESCRIPTION:
URL:https://www.msmezivrsi.cz/kalendar/rozsveceni-vanocniho-stromu-akce-pro-rodice-s-detmi/
END:VEVENT
BEGIN:VEVENT
DTSTART;TZID=Europe/Prague:20251202T080000
DTEND;TZID=Europe/Prague:20251202T113000
DTSTAMP:20260420T220414
CREATED:20250831T073352Z
LAST-MODIFIED:20250831T073352Z
UID:3016-1764662400-1764675000@www.msmezivrsi.cz
SUMMARY:Plavecký kurz v Aquapalace Čestlice
DESCRIPTION:
URL:https://www.msmezivrsi.cz/kalendar/plavecky-kurz-v-aquapalace-cestlice-20/
END:VEVENT
BEGIN:VEVENT
DTSTART;TZID=Europe/Prague:20251204T083000
DTEND;TZID=Europe/Prague:20251204T100000
DTSTAMP:20260420T220414
CREATED:20251114T103110Z
LAST-MODIFIED:20251114T103110Z
UID:3103-1764837000-1764842400@www.msmezivrsi.cz
SUMMARY:Vyšetření očí
DESCRIPTION:
URL:https://www.msmezivrsi.cz/kalendar/vysetreni-oci-2/
END:VEVENT
BEGIN:VEVENT
DTSTART;TZID=Europe/Prague:20251205T070000
DTEND;TZID=Europe/Prague:20251205T120000
DTSTAMP:20260420T220414
CREATED:20250831T073705Z
LAST-MODIFIED:20250831T073705Z
UID:3026-1764918000-1764936000@www.msmezivrsi.cz
SUMMARY:MIKULÁŠ v MŠ - andělsko/čertovský den
DESCRIPTION:
URL:https://www.msmezivrsi.cz/kalendar/mikulas-v-ms-andelsko-certovsky-den/
END:VEVENT
BEGIN:VEVENT
DTSTART;TZID=Europe/Prague:20251209T080000
DTEND;TZID=Europe/Prague:20251209T113000
DTSTAMP:20260420T220414
CREATED:20250831T073420Z
LAST-MODIFIED:20250831T073420Z
UID:3018-1765267200-1765279800@www.msmezivrsi.cz
SUMMARY:Plavecký kurz v Aquapalace Čestlice
DESCRIPTION:
URL:https://www.msmezivrsi.cz/kalendar/plavecky-kurz-v-aquapalace-cestlice-21/
END:VEVENT
BEGIN:VEVENT
DTSTART;TZID=Europe/Prague:20251210T083000
DTEND;TZID=Europe/Prague:20251210T113000
DTSTAMP:20260420T220414
CREATED:20251202T060026Z
LAST-MODIFIED:20251202T060026Z
UID:3119-1765355400-1765366200@www.msmezivrsi.cz
SUMMARY:Vánoční dílničky - dopolední akce na třídách
DESCRIPTION:
URL:https://www.msmezivrsi.cz/kalendar/vanocni-dilnicky-dopoledni-akce-na-tridach/
END:VEVENT
BEGIN:VEVENT
DTSTART;TZID=Europe/Prague:20251216T080000
DTEND;TZID=Europe/Prague:20251216T113000
DTSTAMP:20260420T220414
CREATED:20250831T073445Z
LAST-MODIFIED:20250831T073445Z
UID:3020-1765872000-1765884600@www.msmezivrsi.cz
SUMMARY:Plavecký kurz v Aquapalace Čestlice
DESCRIPTION:
URL:https://www.msmezivrsi.cz/kalendar/plavecky-kurz-v-aquapalace-cestlice-22/
END:VEVENT
BEGIN:VEVENT
DTSTART;TZID=Europe/Prague:20251217T083000
DTEND;TZID=Europe/Prague:20251217T093000
DTSTAMP:20260420T220414
CREATED:20250831T073825Z
LAST-MODIFIED:20251202T055910Z
UID:3028-1765960200-1765963800@www.msmezivrsi.cz
SUMMARY:Malá techmická univerzita - předškoláci
DESCRIPTION:Malý inženýr
URL:https://www.msmezivrsi.cz/kalendar/mala-techmicka-univerzita-predskolaci/
END:VEVENT
BEGIN:VEVENT
DTSTART;TZID=Europe/Prague:20251217T160000
DTEND;TZID=Europe/Prague:20251217T173000
DTSTAMP:20260420T220414
CREATED:20250831T073919Z
LAST-MODIFIED:20251124T073235Z
UID:3030-1765987200-1765992600@www.msmezivrsi.cz
SUMMARY:VÁNOČNÍ JARMARK - akce pro rodiče s dětmi
DESCRIPTION:
URL:https://www.msmezivrsi.cz/kalendar/vanocni-jarmark-akce-pro-rodice-s-detmi/
END:VEVENT
BEGIN:VEVENT
DTSTART;TZID=Europe/Prague:20251222T070000
DTEND;TZID=Europe/Prague:20260102T170000
DTSTAMP:20260420T220414
CREATED:20251202T055742Z
LAST-MODIFIED:20251202T055742Z
UID:3117-1766386800-1767373200@www.msmezivrsi.cz
SUMMARY:Vánoční prázdniny
DESCRIPTION:
URL:https://www.msmezivrsi.cz/kalendar/vanocni-prazdniny-3/
END:VEVENT
END:VCALENDAR