BEGIN:VCALENDAR
VERSION:2.0
PRODID:-//Mateřská škola Mezivrší - ECPv6.15.12.2//NONSGML v1.0//EN
CALSCALE:GREGORIAN
METHOD:PUBLISH
X-WR-CALNAME:Mateřská škola Mezivrší
X-ORIGINAL-URL:https://www.msmezivrsi.cz
X-WR-CALDESC:Akce na Mateřská škola Mezivrší
REFRESH-INTERVAL;VALUE=DURATION:PT1H
X-Robots-Tag:noindex
X-PUBLISHED-TTL:PT1H
BEGIN:VTIMEZONE
TZID:Europe/Prague
BEGIN:DAYLIGHT
TZOFFSETFROM:+0100
TZOFFSETTO:+0200
TZNAME:CEST
DTSTART:20250330T010000
END:DAYLIGHT
BEGIN:STANDARD
TZOFFSETFROM:+0200
TZOFFSETTO:+0100
TZNAME:CET
DTSTART:20251026T010000
END:STANDARD
BEGIN:DAYLIGHT
TZOFFSETFROM:+0100
TZOFFSETTO:+0200
TZNAME:CEST
DTSTART:20260329T010000
END:DAYLIGHT
BEGIN:STANDARD
TZOFFSETFROM:+0200
TZOFFSETTO:+0100
TZNAME:CET
DTSTART:20261025T010000
END:STANDARD
BEGIN:DAYLIGHT
TZOFFSETFROM:+0100
TZOFFSETTO:+0200
TZNAME:CEST
DTSTART:20270328T010000
END:DAYLIGHT
BEGIN:STANDARD
TZOFFSETFROM:+0200
TZOFFSETTO:+0100
TZNAME:CET
DTSTART:20271031T010000
END:STANDARD
END:VTIMEZONE
BEGIN:VEVENT
DTSTART;TZID=Europe/Prague:20260205T100000
DTEND;TZID=Europe/Prague:20260206T110000
DTSTAMP:20260420T183933
CREATED:20260116T094429Z
LAST-MODIFIED:20260116T100018Z
UID:3145-1770285600-1770375600@www.msmezivrsi.cz
SUMMARY:Sokol - předškolní děti
DESCRIPTION:
URL:https://www.msmezivrsi.cz/kalendar/sokol-predskolni-deti/
END:VEVENT
BEGIN:VEVENT
DTSTART;TZID=Europe/Prague:20260210T083000
DTEND;TZID=Europe/Prague:20260210T113000
DTSTAMP:20260420T183933
CREATED:20260116T131555Z
LAST-MODIFIED:20260116T131555Z
UID:3161-1770712200-1770723000@www.msmezivrsi.cz
SUMMARY:KARNEVAL V MŠ
DESCRIPTION:Masopustní dopoledne ve třídách. \nPrůvod masek Braníkem.
URL:https://www.msmezivrsi.cz/kalendar/karneval-v-ms/
END:VEVENT
BEGIN:VEVENT
DTSTART;TZID=Europe/Prague:20260211T091500
DTEND;TZID=Europe/Prague:20260211T100000
DTSTAMP:20260420T183933
CREATED:20260116T131642Z
LAST-MODIFIED:20260116T131642Z
UID:3163-1770801300-1770804000@www.msmezivrsi.cz
SUMMARY:Divadlo v MŠ
DESCRIPTION:O porouchaném robotu
URL:https://www.msmezivrsi.cz/kalendar/divadlo-v-ms-5/
END:VEVENT
BEGIN:VEVENT
DTSTART;TZID=Europe/Prague:20260212T100000
DTEND;TZID=Europe/Prague:20260212T100000
DTSTAMP:20260420T183933
CREATED:20260116T100042Z
LAST-MODIFIED:20260116T100042Z
UID:3148-1770890400-1770890400@www.msmezivrsi.cz
SUMMARY:Sokol - předškolní děti
DESCRIPTION:
URL:https://www.msmezivrsi.cz/kalendar/sokol-predskolni-deti-2/
END:VEVENT
BEGIN:VEVENT
DTSTART;TZID=Europe/Prague:20260216T070000
DTEND;TZID=Europe/Prague:20260220T170000
DTSTAMP:20260420T183933
CREATED:20260116T100147Z
LAST-MODIFIED:20260116T100147Z
UID:3153-1771225200-1771606800@www.msmezivrsi.cz
SUMMARY:Jarní prázdniny
DESCRIPTION:
URL:https://www.msmezivrsi.cz/kalendar/jarni-prazdniny-6/
END:VEVENT
BEGIN:VEVENT
DTSTART;TZID=Europe/Prague:20260219T090000
DTEND;TZID=Europe/Prague:20260219T100000
DTSTAMP:20260420T183933
CREATED:20260219T101747Z
LAST-MODIFIED:20260219T101747Z
UID:3210-1771491600-1771495200@www.msmezivrsi.cz
SUMMARY:Divadlo BRAVO! - zelená třída
DESCRIPTION:Hra o trůn
URL:https://www.msmezivrsi.cz/kalendar/divadlo-bravo-zelena-trida/
END:VEVENT
BEGIN:VEVENT
DTSTART;TZID=Europe/Prague:20260224T083000
DTEND;TZID=Europe/Prague:20260224T113000
DTSTAMP:20260420T183933
CREATED:20260116T100248Z
LAST-MODIFIED:20260116T100248Z
UID:3155-1771921800-1771932600@www.msmezivrsi.cz
SUMMARY:Malá technická univerzita - Logické hry II. - předškolní děti
DESCRIPTION:
URL:https://www.msmezivrsi.cz/kalendar/mala-technicka-univerzita-logicke-hry-ii-predskolni-deti/
END:VEVENT
BEGIN:VEVENT
DTSTART;TZID=Europe/Prague:20260226T100000
DTEND;TZID=Europe/Prague:20260226T110000
DTSTAMP:20260420T183933
CREATED:20260116T100314Z
LAST-MODIFIED:20260116T100314Z
UID:3157-1772100000-1772103600@www.msmezivrsi.cz
SUMMARY:Sokol - předškolní děti
DESCRIPTION:
URL:https://www.msmezivrsi.cz/kalendar/sokol-predskolni-deti-3/
END:VEVENT
END:VCALENDAR