BEGIN:VCALENDAR
VERSION:2.0
PRODID:-//Mateřská škola Mezivrší - ECPv6.15.12.2//NONSGML v1.0//EN
CALSCALE:GREGORIAN
METHOD:PUBLISH
X-WR-CALNAME:Mateřská škola Mezivrší
X-ORIGINAL-URL:https://www.msmezivrsi.cz
X-WR-CALDESC:Akce na Mateřská škola Mezivrší
REFRESH-INTERVAL;VALUE=DURATION:PT1H
X-Robots-Tag:noindex
X-PUBLISHED-TTL:PT1H
BEGIN:VTIMEZONE
TZID:Europe/Prague
BEGIN:DAYLIGHT
TZOFFSETFROM:+0100
TZOFFSETTO:+0200
TZNAME:CEST
DTSTART:20250330T010000
END:DAYLIGHT
BEGIN:STANDARD
TZOFFSETFROM:+0200
TZOFFSETTO:+0100
TZNAME:CET
DTSTART:20251026T010000
END:STANDARD
BEGIN:DAYLIGHT
TZOFFSETFROM:+0100
TZOFFSETTO:+0200
TZNAME:CEST
DTSTART:20260329T010000
END:DAYLIGHT
BEGIN:STANDARD
TZOFFSETFROM:+0200
TZOFFSETTO:+0100
TZNAME:CET
DTSTART:20261025T010000
END:STANDARD
BEGIN:DAYLIGHT
TZOFFSETFROM:+0100
TZOFFSETTO:+0200
TZNAME:CEST
DTSTART:20270328T010000
END:DAYLIGHT
BEGIN:STANDARD
TZOFFSETFROM:+0200
TZOFFSETTO:+0100
TZNAME:CET
DTSTART:20271031T010000
END:STANDARD
END:VTIMEZONE
BEGIN:VEVENT
DTSTART;TZID=Europe/Prague:20260303T163000
DTEND;TZID=Europe/Prague:20260303T173000
DTSTAMP:20260420T165956
CREATED:20260116T131914Z
LAST-MODIFIED:20260116T131914Z
UID:3173-1772555400-1772559000@www.msmezivrsi.cz
SUMMARY:Den otevřených dveří pro nové zájemce o naší mateřskou školu
DESCRIPTION:
URL:https://www.msmezivrsi.cz/kalendar/den-otevrenych-dveri-pro-nove-zajemce-o-nasi-materskou-skolu/
END:VEVENT
BEGIN:VEVENT
DTSTART;TZID=Europe/Prague:20260305T100000
DTEND;TZID=Europe/Prague:20260305T110000
DTSTAMP:20260420T165956
CREATED:20260116T131726Z
LAST-MODIFIED:20260116T131726Z
UID:3165-1772704800-1772708400@www.msmezivrsi.cz
SUMMARY:Sokol - předškoláci
DESCRIPTION:
URL:https://www.msmezivrsi.cz/kalendar/sokol-predskolaci-18/
END:VEVENT
BEGIN:VEVENT
DTSTART;TZID=Europe/Prague:20260306T083000
DTEND;TZID=Europe/Prague:20260306T113000
DTSTAMP:20260420T165956
CREATED:20260116T131959Z
LAST-MODIFIED:20260219T101648Z
UID:3175-1772785800-1772796600@www.msmezivrsi.cz
SUMMARY:Malá technická univerzita - předškoláci
DESCRIPTION:Logické hry II.
URL:https://www.msmezivrsi.cz/kalendar/mala-technicka-univerzita-predskolaci-6/
END:VEVENT
BEGIN:VEVENT
DTSTART;TZID=Europe/Prague:20260309T070000
DTEND;TZID=Europe/Prague:20260313T120000
DTSTAMP:20260420T165956
CREATED:20260116T132134Z
LAST-MODIFIED:20260116T132134Z
UID:3179-1773039600-1773403200@www.msmezivrsi.cz
SUMMARY:Líhneme ve školce
DESCRIPTION:Pozorování líhnutí kuřátek.
URL:https://www.msmezivrsi.cz/kalendar/lihneme-ve-skolce/
END:VEVENT
BEGIN:VEVENT
DTSTART;TZID=Europe/Prague:20260311T091500
DTEND;TZID=Europe/Prague:20260311T100000
DTSTAMP:20260420T165956
CREATED:20260116T132041Z
LAST-MODIFIED:20260116T132041Z
UID:3177-1773220500-1773223200@www.msmezivrsi.cz
SUMMARY:Divadlo v MŠ
DESCRIPTION:Barevná pohádka
URL:https://www.msmezivrsi.cz/kalendar/divadlo-v-ms-6/
END:VEVENT
BEGIN:VEVENT
DTSTART;TZID=Europe/Prague:20260312T100000
DTEND;TZID=Europe/Prague:20260312T110000
DTSTAMP:20260420T165956
CREATED:20260116T131752Z
LAST-MODIFIED:20260116T131752Z
UID:3167-1773309600-1773313200@www.msmezivrsi.cz
SUMMARY:Sokol - předškoláci
DESCRIPTION:
URL:https://www.msmezivrsi.cz/kalendar/sokol-predskolaci-22/
END:VEVENT
BEGIN:VEVENT
DTSTART;TZID=Europe/Prague:20260317T130000
DTEND;TZID=Europe/Prague:20260318T180000
DTSTAMP:20260420T165956
CREATED:20260116T132203Z
LAST-MODIFIED:20260116T132203Z
UID:3181-1773752400-1773856800@www.msmezivrsi.cz
SUMMARY:Zápisy do MŠ
DESCRIPTION:
URL:https://www.msmezivrsi.cz/kalendar/zapisy-do-ms/
END:VEVENT
BEGIN:VEVENT
DTSTART;TZID=Europe/Prague:20260319T100000
DTEND;TZID=Europe/Prague:20260319T110000
DTSTAMP:20260420T165956
CREATED:20260116T131815Z
LAST-MODIFIED:20260116T131815Z
UID:3169-1773914400-1773918000@www.msmezivrsi.cz
SUMMARY:Sokol - předškoláci
DESCRIPTION:
URL:https://www.msmezivrsi.cz/kalendar/sokol-predskolaci-23/
END:VEVENT
BEGIN:VEVENT
DTSTART;TZID=Europe/Prague:20260324T104000
DTEND;TZID=Europe/Prague:20260324T114000
DTSTAMP:20260420T165956
CREATED:20260312T131638Z
LAST-MODIFIED:20260312T131638Z
UID:3216-1774348800-1774352400@www.msmezivrsi.cz
SUMMARY:Malá technická univerzita
DESCRIPTION:Malý stavitel věží
URL:https://www.msmezivrsi.cz/kalendar/mala-technicka-univerzita-2/
END:VEVENT
BEGIN:VEVENT
DTSTART;TZID=Europe/Prague:20260326T100000
DTEND;TZID=Europe/Prague:20260326T110000
DTSTAMP:20260420T165956
CREATED:20260116T131834Z
LAST-MODIFIED:20260116T131834Z
UID:3171-1774519200-1774522800@www.msmezivrsi.cz
SUMMARY:Sokol - předškoláci
DESCRIPTION:
URL:https://www.msmezivrsi.cz/kalendar/sokol-predskolaci-24/
END:VEVENT
END:VCALENDAR