BEGIN:VCALENDAR
VERSION:2.0
PRODID:-//Mateřská škola Mezivrší - ECPv6.15.12.2//NONSGML v1.0//EN
CALSCALE:GREGORIAN
METHOD:PUBLISH
X-ORIGINAL-URL:https://www.msmezivrsi.cz
X-WR-CALDESC:Akce na Mateřská škola Mezivrší
REFRESH-INTERVAL;VALUE=DURATION:PT1H
X-Robots-Tag:noindex
X-PUBLISHED-TTL:PT1H
BEGIN:VTIMEZONE
TZID:Europe/Prague
BEGIN:DAYLIGHT
TZOFFSETFROM:+0100
TZOFFSETTO:+0200
TZNAME:CEST
DTSTART:20250330T010000
END:DAYLIGHT
BEGIN:STANDARD
TZOFFSETFROM:+0200
TZOFFSETTO:+0100
TZNAME:CET
DTSTART:20251026T010000
END:STANDARD
BEGIN:DAYLIGHT
TZOFFSETFROM:+0100
TZOFFSETTO:+0200
TZNAME:CEST
DTSTART:20260329T010000
END:DAYLIGHT
BEGIN:STANDARD
TZOFFSETFROM:+0200
TZOFFSETTO:+0100
TZNAME:CET
DTSTART:20261025T010000
END:STANDARD
BEGIN:DAYLIGHT
TZOFFSETFROM:+0100
TZOFFSETTO:+0200
TZNAME:CEST
DTSTART:20270328T010000
END:DAYLIGHT
BEGIN:STANDARD
TZOFFSETFROM:+0200
TZOFFSETTO:+0100
TZNAME:CET
DTSTART:20271031T010000
END:STANDARD
END:VTIMEZONE
BEGIN:VEVENT
DTSTART;TZID=Europe/Prague:20260603T091500
DTEND;TZID=Europe/Prague:20260603T100000
DTSTAMP:20260420T182805
CREATED:20260312T133028Z
LAST-MODIFIED:20260312T133028Z
UID:3261-1780478100-1780480800@www.msmezivrsi.cz
SUMMARY:Divadélko v MŠ
DESCRIPTION:Námořnická pohádka
URL:https://www.msmezivrsi.cz/kalendar/divadelko-v-ms-24/
END:VEVENT
BEGIN:VEVENT
DTSTART;TZID=Europe/Prague:20260604T100000
DTEND;TZID=Europe/Prague:20260604T110000
DTSTAMP:20260420T182805
CREATED:20260312T132114Z
LAST-MODIFIED:20260312T132114Z
UID:3235-1780567200-1780570800@www.msmezivrsi.cz
SUMMARY:SOKOL BRANÍK - předškolní děti
DESCRIPTION:
URL:https://www.msmezivrsi.cz/kalendar/sokol-branik-predskolni-deti-8/
END:VEVENT
BEGIN:VEVENT
DTSTART;TZID=Europe/Prague:20260611T080000
DTEND;TZID=Europe/Prague:20260612T170000
DTSTAMP:20260420T182805
CREATED:20260312T133112Z
LAST-MODIFIED:20260312T133112Z
UID:3263-1781164800-1781283600@www.msmezivrsi.cz
SUMMARY:Spaní ve školce - předškolní děti
DESCRIPTION:
URL:https://www.msmezivrsi.cz/kalendar/spani-ve-skolce-predskolni-deti/
END:VEVENT
BEGIN:VEVENT
DTSTART;TZID=Europe/Prague:20260611T100000
DTEND;TZID=Europe/Prague:20260611T110000
DTSTAMP:20260420T182805
CREATED:20260312T132138Z
LAST-MODIFIED:20260312T132138Z
UID:3237-1781172000-1781175600@www.msmezivrsi.cz
SUMMARY:SOKOL BRANÍK - předškolní děti
DESCRIPTION:
URL:https://www.msmezivrsi.cz/kalendar/sokol-branik-predskolni-deti-9/
END:VEVENT
BEGIN:VEVENT
DTSTART;TZID=Europe/Prague:20260617T150000
DTEND;TZID=Europe/Prague:20260617T180000
DTSTAMP:20260420T182805
CREATED:20260312T133142Z
LAST-MODIFIED:20260312T133142Z
UID:3265-1781708400-1781719200@www.msmezivrsi.cz
SUMMARY:ZAHRADNÍ SLAVNOST
DESCRIPTION:
URL:https://www.msmezivrsi.cz/kalendar/zahradni-slavnost/
END:VEVENT
BEGIN:VEVENT
DTSTART;TZID=Europe/Prague:20260618T100000
DTEND;TZID=Europe/Prague:20260618T110000
DTSTAMP:20260420T182805
CREATED:20260312T132209Z
LAST-MODIFIED:20260312T132209Z
UID:3239-1781776800-1781780400@www.msmezivrsi.cz
SUMMARY:SOKOL BRANÍK - předškolní děti
DESCRIPTION:
URL:https://www.msmezivrsi.cz/kalendar/sokol-branik-predskolni-deti-10/
END:VEVENT
BEGIN:VEVENT
DTSTART;TZID=Europe/Prague:20260625T080000
DTEND;TZID=Europe/Prague:20260625T170000
DTSTAMP:20260420T182805
CREATED:20260312T133209Z
LAST-MODIFIED:20260312T133209Z
UID:3267-1782374400-1782406800@www.msmezivrsi.cz
SUMMARY:CELODENNÍ VÝLET DO HEROLANDU
DESCRIPTION:
URL:https://www.msmezivrsi.cz/kalendar/celodenni-vylet-do-herolandu/
END:VEVENT
END:VCALENDAR