BEGIN:VCALENDAR
VERSION:2.0
PRODID:-//Mateřská škola Mezivrší - ECPv6.15.12.2//NONSGML v1.0//EN
CALSCALE:GREGORIAN
METHOD:PUBLISH
X-ORIGINAL-URL:https://www.msmezivrsi.cz
X-WR-CALDESC:Akce na Mateřská škola Mezivrší
REFRESH-INTERVAL;VALUE=DURATION:PT1H
X-Robots-Tag:noindex
X-PUBLISHED-TTL:PT1H
BEGIN:VTIMEZONE
TZID:Europe/Prague
BEGIN:DAYLIGHT
TZOFFSETFROM:+0100
TZOFFSETTO:+0200
TZNAME:CEST
DTSTART:20250330T010000
END:DAYLIGHT
BEGIN:STANDARD
TZOFFSETFROM:+0200
TZOFFSETTO:+0100
TZNAME:CET
DTSTART:20251026T010000
END:STANDARD
BEGIN:DAYLIGHT
TZOFFSETFROM:+0100
TZOFFSETTO:+0200
TZNAME:CEST
DTSTART:20260329T010000
END:DAYLIGHT
BEGIN:STANDARD
TZOFFSETFROM:+0200
TZOFFSETTO:+0100
TZNAME:CET
DTSTART:20261025T010000
END:STANDARD
BEGIN:DAYLIGHT
TZOFFSETFROM:+0100
TZOFFSETTO:+0200
TZNAME:CEST
DTSTART:20270328T010000
END:DAYLIGHT
BEGIN:STANDARD
TZOFFSETFROM:+0200
TZOFFSETTO:+0100
TZNAME:CET
DTSTART:20271031T010000
END:STANDARD
END:VTIMEZONE
BEGIN:VEVENT
DTSTART;TZID=Europe/Prague:20260421T083000
DTEND;TZID=Europe/Prague:20260421T093000
DTSTAMP:20260420T152954
CREATED:20260312T132519Z
LAST-MODIFIED:20260312T132519Z
UID:3245-1776760200-1776763800@www.msmezivrsi.cz
SUMMARY:Malá technická univerzita - předškolní děti
DESCRIPTION:Malý zpracovatel odpadu
URL:https://www.msmezivrsi.cz/kalendar/mala-technicka-univerzita-predskolni-deti/
END:VEVENT
BEGIN:VEVENT
DTSTART;TZID=Europe/Prague:20260422T083000
DTEND;TZID=Europe/Prague:20260422T113000
DTSTAMP:20260420T152954
CREATED:20260312T132556Z
LAST-MODIFIED:20260312T132556Z
UID:3247-1776846600-1776857400@www.msmezivrsi.cz
SUMMARY:DEN ZEMĚ
DESCRIPTION:Dopolední aktivity na třídách
URL:https://www.msmezivrsi.cz/kalendar/den-zeme/
END:VEVENT
BEGIN:VEVENT
DTSTART;TZID=Europe/Prague:20260423T100000
DTEND;TZID=Europe/Prague:20260423T110000
DTSTAMP:20260420T152954
CREATED:20260312T131852Z
LAST-MODIFIED:20260312T131852Z
UID:3224-1776938400-1776942000@www.msmezivrsi.cz
SUMMARY:SOKOL BRANÍK - předškolní děti
DESCRIPTION:
URL:https://www.msmezivrsi.cz/kalendar/sokol-branik-predskolni-deti-3/
END:VEVENT
BEGIN:VEVENT
DTSTART;TZID=Europe/Prague:20260430T083000
DTEND;TZID=Europe/Prague:20260430T113000
DTSTAMP:20260420T152954
CREATED:20260312T132635Z
LAST-MODIFIED:20260312T132635Z
UID:3249-1777537800-1777548600@www.msmezivrsi.cz
SUMMARY:ČARODĚJNICE v MŠ
DESCRIPTION:
URL:https://www.msmezivrsi.cz/kalendar/carodejnice-v-ms/
END:VEVENT
END:VCALENDAR